Workbook

Sheet FATO
A1: Прайс лист -11.2026г
A2: 1. Аксессуары для Шкафов и Щитов
B3: Распределительные блоки и кросс-модули
A4: 1.1 | C4: Распределительные блоки РБ 1-но полюсные
A5: 1.2 | C5: Распределительные блоки проходные РБП
A6: 1.3 | C6: Шины в корпусе (кросс-модули)
A7: 1.4 | C7: Шины в корпусе (кросс-модули) "Лесенка"
A8: 1.5 | C8: Распределительные блоки РБ 4-х полюсные
A9: 1.6 | C9: Шина универсальная распределительная ШнУР
B10: ИК
A11: 1.7 | C11: Коробка испытательная для счетчиков ИК
B12: Орех
A13: 1.8 | C13: Ответвительный сжим (орех)
B14: Шины N и PE латунные
A15: 1.9 | C15: Шина в корпусном изоляторе на DIN-рейку
A16: 1.1 | C16: Шина с DIN-изоляторе 6x9
A17: 1.11 | C17: Шина с DIN-изоляторе 8x12
A18: 1.12 | C18: Шина с DIN-изоляторе типа "стойка"
A19: 1.13 | C19: Шина в комбинированном DIN-изоляторе типа "стойка"
A20: 1.14 | C20: Шина "N" нулевая в изоляторе ШНИ
A21: 1.15 | C21: Шина с двумя угловыми изоляторами 6x9
A22: 1.16 | C22: Шина с двумя угловыми изоляторами 8x12
A23: 1.17 | C23: Шина на одном угловом изоляторами
A24: 1.18 | C24: Шина с DIN-изоляторе типа "стойка" (розн. упак.)
A25: 1.19 | C25: Шина с DIN-изоляторе (розн. упак.)
A26: 1.2 | C26: Шина с двумя угловыми изоляторами (розн. упак.)
... A36: 1.3 | C36: Шинный терминал
B37: Шина соединительная типа PIN и FORK
A38: 1.31 | C38: Шина соединительная PIN（1M）
A39: 1.32 | C39: Шина соединительная PIN-12 штырей
A40: 1.33 | C40: Шина соединительная FORK（1M）
A41: 1.34 | C41: Шина соединительная FORK - 12 штырей
A42: 1.35 | C42: Шина соединительная PIN утолщенная（1M）
A43: 1.36 | C43: Клеммы вводные модульные
B44: Изоляторы
A45: 1.37 | C45: Изоляторы SM
A46: 1.38 | C46: Изоляторы SM с болтом
A47: 1.39 | C47: Изоляторы "Лесенка"
A48: 1.4 | C48: Изоляторы "Лесенка" с болтом
A49: 1.41 | C49: Изоляторы шинные плоские ИШП
...

Sheet Прайс
A1: Прайс лист -01.11.2026г | F1: www.hlt.su | J1: Итого (руб.) | M1: В наличии с маркировкой | N1: Маркировка ЧЗ | O1: Статус товара | P1: Ссылка на сайт | Q1: Код класса ETIM | R1: Общий вес （Kg） | U1: Объём （m³）
F2: Скидка % | G2: 0 | J2: =SUM(J7:J3520) -> 0 | R2: =SUM(U7:U3519) -> 0 | U2: =SUM(V7:V3519) -> 0
A3: Артикул | B3: Наименование | C3: Ед. | D3: Заказ | E3: Цена за единицу | F3: Цена за единицу с учетом скидки РУБ (с НДС) | G3: Цена РРЦ с НДС | H3: В наличии | J3: Сумма | K3: Упаковка | R3: Штрих код | S3: Вес нетто（Kg） | T3: Объём Ктр. （m³） | U3: Общий вес нетто (кг) | V3: Объём （м³）
K4: Количество в упаковке, шт./уп. | L4: Кол-во в трансп. коробке Упак.
A5: 1.Аксессуары для Шкафов и Щитов
A6: Распределительные блоки РБ 1-но полюсные | W6: 04.22-已核对
A7: 081-07-01 | B7: Распределительный блок на DIN-рейку РБ-80 1П 80А (1x16/4x6+2x16) HLT | C7: шт. | E7: 342.1 | F7: =E7-E7*$G$2% -> 342.1 | G7: =E7-(20*E7/100) -> 273.68 | H7: 202 | J7: =IF(D7="","",IF(F7="","",ROUND(D7*F7,2))) | K7: 1 | L7: 150 | N7: да | O7: Регулярная | P7: Ссылка | Q7: EC000276 | R7: 4670042790014 | S7: 10.5 | T7: 0.02604 | U7: =S7/L7*D7 -> 0 | V7: =T7/L7*D7 -> 0
A8: 081-07-02 | B8: Распределительный блок на DIN-рейку РБ-125 1П 125А (1x35+1x16/6x16) HLT | C8: шт. | E8: 610.07 | F8: =E8-E8*$G$2% -> 610.07 | G8: =E8-(20*E8/100) -> 488.056 | H8: 368 | J8: =IF(D8="","",IF(F8="","",ROUND(D8*F8,2))) | K8: 1 | L8: 150 | N8: да | O8: Регулярная | P8: Ссылка | Q8: EC000276 | R8: 4670042790021 | S8: 24 | T8: 0.02604 | U8: =S8/L8*D8 -> 0 | V8: =T8/L8*D8 -> 0
A9: 081-07-03 | B9: Распределительный блок на DIN-рейку РБ-160 1П 160А (1x70+1x16/6x16) HLT | C9: шт. | E9: 655.71 | F9: =E9-E9*$G$2% -> 655.71 | G9: =E9-(20*E9/100) -> 524.568 | J9: =IF(D9="","",IF(F9="","",ROUND(D9*F9,2))) | K9: 6 | L9: 150 | N9: да | O9: Регулярная | P9: Ссылка | Q9: EC000276 | R9: 4670042790069 | S9: 24 | T9: 0.02604 | U9: =S9/L9*D9 -> 0 | V9: =T9/L9*D9 -> 0
A10: 081-07-04 | B10: Распределительный блок на DIN-рейку РБ-250 1П 250А (1x120/2x35+ 5x16+ 4x10) HLT | C10: шт. | E10: 1651.72 | F10: =E10-E10*$G$2% -> 1651.72 | G10: =E10-(20*E10/100) -> 1321.376 | J10: =IF(D10="","",IF(F10="","",ROUND(D10*F10,2))) | K10: 1 | L10: 30 | N10: да | O10: Регулярная | P10: Ссылка | Q10: EC000276 | R10: 4670042790076 | S10: 13 | T10: 0.01486375 | U10: =S10/L10*D10 -> 0 | V10: =T10/L10*D10 -> 0
A11: 081-07-05 | B11: Распределительный блок на DIN-рейку РБ-400 1П 400А (1x185/2x35+5x16+ 4x10) HLT | C11: шт. | E11: 1823.6 | F11: =E11-E11*$G$2% -> 1823.6 | G11: =E11-(20*E11/100) -> 1458.88 | H11: 53 | J11: =IF(D11="","",IF(F11="","",ROUND(D11*F11,2))) | K11: 1 | L11: 30 | N11: да | O11: Регулярная | P11: Ссылка | Q11: EC000276 | R11: 4670042790083 | S11: 13 | T11: 0.01486375 | U11: =S11/L11*D11 -> 0 | V11: =T11/L11*D11 -> 0
A12: 081-07-06 | B12: Распределительный блок на DIN-рейку РБ-500 1П 500А (плоские шины от 3x15 до 8x24 / 2x35+5x16+4x10) HLT | C12: шт. | E12: 1942.45 | F12: =E12-E12*$G$2% -> 1942.45 | G12: =E12-(20*E12/100) -> 1553.96 | H12: 22 | J12: =IF(D12="","",IF(F12="","",ROUND(D12*F12,2))) | K12: 1 | L12: 30 | N12: да | O12: Регулярная | P12: Ссылка | Q12: EC000276 | R12: 4670042790090 | S12: 12.5 | T12: 0.01486375 | U12: =S12/L12*D12 -> 0 | V12: =T12/L12*D12 -> 0
A13: Распределительные блок РБЛ "Лесенка"
A14: 081-07-008 | B14: Распределительный блок на DIN-рейку РБЛ "Лесенка"-125 1П 125А (1x35+1x16/6x16) HLT | C14: шт. | E14: 617.07 | F14: =E14-E14*$G$2% -> 617.07 | G14: =E14-(20*E14/100) -> 493.656 | K14: 6 | L14: 120 | N14: да | O14: Регулярная | P14: Ссылка | Q14: EC000276 | R14: 4630076442914 | S14: 16.8 | T14: 0.021384 | U14: =S14/L14*D14 -> 0 | V14: =T14/L14*D14 -> 0
A15: Распределительные блоки проходные РБП | J15: =IF(D15="","",IF(F15="","",ROUND(D15*F15,2))) | W15: 04.22-已核对
A16: 081-07-10 | B16: Распределительный блок проходной РБП 35 (1х35-4х6 мм2) 125/50 А HLT | C16: шт. | E16: 392.57 | F16: =E16-E16*$G$2% -> 392.57 | G16: =E16-(20*E16/100) -> 314.056 | H16: 810 | J16: =IF(D16="","",IF(F16="","",ROUND(D16*F16,2))) | K16: 10 | L16: 200 | N16: да | O16: Регулярная | P16: Ссылка | Q16: EC000276 | R16: 4670042790205 | S16: 15 | T16: 0.0283465 | U16: =S16/L16*D16 -> 0 | V16: =T16/L16*D16 -> 0
A17: 081-07-11 | B17: Распределительный блок проходной РБП 95 (1х95-4х16 мм2) 232/100А HLT | C17: шт. | E17: 755.6 | F17: =E17-E17*$G$2% -> 755.6 | G17: =E17-(20*E17/100) -> 604.48 | J17: =IF(D17="","",IF(F17="","",ROUND(D17*F17,2))) | K17: 8 | L17: 80 | N17: да | O17: Регулярная | P17: Ссылка | Q17: EC000276 | R17: 4670042790212 | S17: 14.8 | T17: 0.025245 | U17: =S17/L17*D17 -> 0 | V17: =T17/L17*D17 -> 0
A18: Шины в корпусе (кросс-модули) | J18: =IF(D18="","",IF(F18="","",ROUND(D18*F18,2))) | W18: 04.24-已核对
A19: 081-06-01 | B19: Шины на DIN-рейку в корпусе (кросс-модуль) L+PEN 2x7 HLT | C19: шт. | E19: 443.81 | F19: =E19-E19*$G$2% -> 443.81 | G19: =E19-(20*E19/100) -> 355.048 | H19: 676 | J19: =IF(D19="","",IF(F19="","",ROUND(D19*F19,2))) | K19: 1 | L19: 100 | N19: да | O19: Регулярная | P19: Ссылка | Q19: EC001894 | R19: 4670042790229 | S19: 13 | T19: 0.0242 | U19: =S19/L19*D19 -> 0 | V19: =T19/L19*D19 -> 0
A20: 081-06-02 | B20: Шины на DIN-рейку в корпусе (кросс-модуль) L+PEN 2x11 HLT | C20: шт. | E20: 643.35 | F20: =E20-E20*$G$2% -> 643.35 | G20: =E20-(20*E20/100) -> 514.68 | H20: 312 | J20: =IF(D20="","",IF(F20="","",ROUND(D20*F20,2))) | K20: 1 | L20: 100 | N20: да | O20: Регулярная | P20: Ссылка | Q20: EC001894 | R20: 4670042790236 | S20: 17.5 | T20: 0.05 | U20: =S20/L20*D20 -> 0 | V20: =T20/L20*D20 -> 0
A21: 081-06-03 | B21: Шины на DIN-рейку в корпусе (кросс-модуль) L+PEN 2x15 HLT | C21: шт. | E21: 798.17 | F21: =E21-E21*$G$2% -> 798.17 | G21: =E21-(20*E21/100) -> 638.536 | H21: 1066 | J21: =IF(D21="","",IF(F21="","",ROUND(D21*F21,2))) | K21: 1 | L21: 100 | N21: да | O21: Регулярная | P21: Ссылка | Q21: EC001894 | R21: 4670042790243 | S21: 27.5 | T21: 0.0402 | U21: =S21/L21*D21 -> 0 | V21: =T21/L21*D21 -> 0
A22: 081-06-04 | B22: Шины на DIN-рейку в корпусе (кросс-модуль) 3L+PEN 4x7 HLT | C22: шт. | E22: 834.37 | F22: =E22-E22*$G$2% -> 834.37 | G22: =E22-(20*E22/100) -> 667.496 | H22: 149 | J22: =IF(D22="","",IF(F22="","",ROUND(D22*F22,2))) | K22: 1 | L22: 100 | N22: да | O22: Регулярная | P22: Ссылка | Q22: EC001894 | R22: 4670042790250 | S22: 25 | T22: 0.0440115 | U22: =S22/L22*D22 -> 0 | V22: =T22/L22*D22 -> 0
A23: 081-06-05 | B23: Шины на DIN-рейку в корпусе (кросс-модуль) 3L+PEN 4x11 HLT | C23: шт. | E23: 1075.93 | F23: =E23-E23*$G$2% -> 1075.93 | G23: =E23-(20*E23/100) -> 860.744 | H23: 469 | J23: =IF(D23="","",IF(F23="","",ROUND(D23*F23,2))) | K23: 1 | L23: 50 | N23: да | O23: Регулярная | P23: Ссылка | Q23: EC001894 | R23: 4670042790267 | S23: 20.5 | T23: 0.032054 | U23: =S23/L23*D23 -> 0 | V23: =T23/L23*D23 -> 0
A24: 081-06-06 | B24: Шины на DIN-рейку в корпусе (кросс-модуль) 3L+PEN 4x15 HLT | C24: шт. | E24: 1314.08 | F24: =E24-E24*$G$2% -> 1314.08 | G24: =E24-(20*E24/100) -> 1051.264 | H24: 1273 | J24: =IF(D24="","",IF(F24="","",ROUND(D24*F24,2))) | K24: 1 | L24: 50 | N24: да | O24: Регулярная | P24: Ссылка | Q24: EC001894 | R24: 4670042790274 | S24: 28 | T24: 0.04024475 | U24: =S24/L24*D24 -> 0 | V24: =T24/L24*D24 -> 0
A25: Распределительные блоки РБ 4-X полюсные | J25: =IF(D25="","",IF(F25="","",ROUND(D25*F25,2)))
A26: 081-08-01 | B26: Распределительный блок на DIN-рейку РБ-160 4П 160А (4 шины 2x9+2x8+7x7+1x12) HLT | C26: шт. | E26: 3703.61 | F26: =E26-E26*$G$2% -> 3703.61 | G26: =E26-(20*E26/100) -> 2962.888 | H26: 27 | J26: =IF(D26="","",IF(F26="","",ROUND(D26*F26,2))) | K26: 1 | L26: 20 | N26: да | O26: Регулярная | P26: Ссылка | Q26: EC001894 | R26: 4670042790298 | S26: 18 | T26: 0.05544 | U26: =S26/L26*D26 -> 0 | V26: =T26/L26*D26 -> 0
A27: 081-08-02 | B27: Распределительный блок на DIN-рейку РБ-200 4П 200А (4 шины 10xM6+1xM8) HLT | C27: шт. | E27: 6692.82 | F27: =E27-E27*$G$2% -> 6692.82 | G27: =E27-(20*E27/100) -> 5354.256 | H27: 20 | J27: =IF(D27="","",IF(F27="","",ROUND(D27*F27,2))) | K27: 1 | L27: 10 | N27: да | O27: Регулярная | P27: Ссылка | Q27: EC001894 | R27: 4670042790304 | S27: 15 | T27: 0.0819 | U27: =S27/L27*D27 -> 0 | V27: =T27/L27*D27 -> 0
A28: 081-08-03 | B28: Распределительный блок на DIN-рейку РБ-250 4П 250А (4 шины 10xM6+1xM8) HLT | C28: шт. | E28: 6659.42 | F28: =E28-E28*$G$2% -> 6659.42 | G28: =E28-(20*E28/100) -> 5327.536 | H28: 6 | J28: =IF(D28="","",IF(F28="","",ROUND(D28*F28,2))) | K28: 1 | L28: 10 | N28: да | O28: Регулярная | P28: Ссылка | Q28: EC001894 | R28: 4670042790311 | S28: 18 | T28: 0.0819 | U28: =S28/L28*D28 -> 0 | V28: =T28/L28*D28 -> 0
A29: 081-08-04 | B29: Распределительный блок РБ-400 4П 400А (4 шины 10xM6+1xM8) HLT | C29: шт. | E29: 8325.51 | F29: =E29-E29*$G$2% -> 8325.51 | G29: =E29-(20*E29/100) -> 6660.408 | I29: 19.11.2026 | J29: =IF(D29="","",IF(F29="","",ROUND(D29*F29,2))) | K29: 1 | L29: 10 | N29: да | O29: Регулярная | P29: Ссылка | Q29: EC001894 | R29: 4670042790328 | S29: 18.7 | T29: 0.065 | U29: =S29/L29*D29 -> 0 | V29: =T29/L29*D29 -> 0
A30: Шина универсальная распределительная ШнУР | J30: =IF(D30="","",IF(F30="","",ROUND(D30*F30,2)))
A31: 081-17-01 | B31: Шина универсальная распределительная ШнУР 1 в корпусе 2 ввода 7 групп 160 А HLT | C31: шт. | E31: 875.9 | F31: =E31-E31*$G$2% -> 875.9 | G31: =E31-(20*E31/100) -> 700.72 | I31: 19.11.2026 | J31: =IF(D31="","",IF(F31="","",ROUND(D31*F31,2))) | K31: 1 | L31: 50 | N31: да | O31: Регулярная | P31: Ссылка | Q31: EC000275 | R31: 4670042790281 | S31: 14.5 | T31: 0.027 | U31: =S31/L31*D31 -> 0 | V31: =T31/L31*D31 -> 0
A32: Коробка испытательная для счетчиков ИК | J32: =IF(D32="","",IF(F32="","",ROUND(D32*F32,2)))
A33: 081-22-02 | B33: Коробка клеммная испытательная ККИ HLT | C33: шт. | E33: 745.9 | F33: =E33-E33*$G$2% -> 745.9 | G33: =E33-(20*E33/100) -> 596.72 | H33: 554 | J33: =IF(D33="","",IF(F33="","",ROUND(D33*F33,2))) | K33: 1 | L33: 20 | N33: да | O33: Регулярная | P33: Ссылка | Q33: EC002295 | R33: 4670042790335 | S33: 8 | T33: 0.0312 | U33: =S33/L33*D33 -> 0 | V33: =T33/L33*D33 -> 0
A34: Ответвительный сжим (орех) | J34: =IF(D34="","",IF(F34="","",ROUND(D34*F34,2)))
A35: 081-13-28 | B35: Сжим ответвительный У-731М (4-10 : 1,5-10 мм2) IP20 HLT | C35: шт. | E35: 52.61 | F35: =E35-E35*$G$2% -> 52.61 | G35: =E35-(20*E35/100) -> 42.088 | H35: 4920 | J35: =IF(D35="","",IF(F35="","",ROUND(D35*F35,2))) | K35: 18 | L35: 216 | N35: да | O35: Регулярная | P35: Ссылка | Q35: EC001062 | R35: 4670042790359 | S35: 10 | T35: 0.17901338 | U35: =S35/L35*D35 -> 0 | V35: =T35/L35*D35 -> 0
A36: 081-13-29 | B36: Сжим ответвительный У-733М (16-35 : 1,5-10 мм2) IP20 HLT | C36: шт. | E36: 52.61 | F36: =E36-E36*$G$2% -> 52.61 | G36: =E36-(20*E36/100) -> 42.088 | J36: =IF(D36="","",IF(F36="","",ROUND(D36*F36,2))) | K36: 18 | L36: 216 | N36: да | O36: Регулярная | P36: Ссылка | Q36: EC001062 | R36: 4670042790366 | S36: 10 | T36: 0.17901338 | U36: =S36/L36*D36 -> 0 | V36: =T36/L36*D36 -> 0
A37: 081-13-30 | B37: Сжим ответвительный У-734М (16-35 : 16-25 мм2) IP20 HLT | C37: шт. | E37: 52.61 | F37: =E37-E37*$G$2% -> 52.61 | G37: =E37-(20*E37/100) -> 42.088 | H37: 3 | J37: =IF(D37="","",IF(F37="","",ROUND(D37*F37,2))) | K37: 60 | L37: 360 | N37: да | O37: Регулярная | P37: Ссылка | Q37: EC001062 | R37: 4670042790373 | S37: 10 | T37: 0.17901338 | U37: =S37/L37*D37 -> 0 | V37: =T37/L37*D37 -> 0
A38: 081-13-31 | B38: Сжим ответвительный У-739М (4-10 : 1,5-2,5 мм2) IP20 HLT | C38: шт. | E38: 52.61 | F38: =E38-E38*$G$2% -> 52.61 | G38: =E38-(20*E38/100) -> 42.088 | H38: 2681 | J38: =IF(D38="","",IF(F38="","",ROUND(D38*F38,2))) | K38: 18 | L38: 216 | N38: да | O38: Регулярная | P38: Ссылка | Q38: EC001062 | R38: 4670042790380 | S38: 10 | T38: 0.13923262 | U38: =S38/L38*D38 -> 0 | V38: =T38/L38*D38 -> 0
A39: 081-13-32 | B39: Сжим ответвительный У-859М (50-70 : 4-35 мм2) IP20 HLT | C39: шт. | E39: 152.9 | F39: =E39-E39*$G$2% -> 152.9 | G39: =E39-(20*E39/100) -> 122.32 | J39: =IF(D39="","",IF(F39="","",ROUND(D39*F39,2))) | K39: 16 | L39: 96 | N39: да | O39: Регулярная | P39: Ссылка | Q39: EC001062 | R39: 4670042790397 | S39: 13.6 | T39: 0.115005 | U39: =S39/L39*D39 -> 0 | V39: =T39/L39*D39 -> 0
A40: 081-13-33 | B40: Сжим ответвительный У-870М (95-150 : 16-50 мм2) IP20 HLT | C40: шт. | E40: 386.94 | F40: =E40-E40*$G$2% -> 386.94 | G40: =E40-(20*E40/100) -> 309.552 | H40: 1 | J40: =IF(D40="","",IF(F40="","",ROUND(D40*F40,2))) | K40: 2 | L40: 24 | N40: да | O40: Регулярная | P40: Ссылка | Q40: EC001062 | R40: 4670042790403 | S40: 10 | T40: 0.05621175 | U40: =S40/L40*D40 -> 0 | V40: =T40/L40*D40 -> 0
...

Sheet Акция
A1: Артикул | B1: Наименование | C1: Ед. | D1: Специальная цена (с НДС)
A3: Распределительные блок РБЛ "Лесенка"
A4: 081-07-008 | B4: Распределительный блок на DIN-рейку РБЛ "Лесенка"-125 1П 125А (1x35+1x16/6x16) HLT | C4: шт. | D4: 275.71
A5: Шины в корпусе (кросс-модули) "Лесенка"
A6: 081-06-011 | B6: Шины на DIN-рейку в корпусе (кросс-модуль) "Лесенка" 3L+PEN 4x15 HLT | C6: шт. | D6: 497.14
A7: Ответвительный сжим (орех)
A8: 081-13-28 | B8: Сжим ответвительный У-731М (4-10 : 1,5-10 мм2) IP20 HLT | C8: шт. | D8: 23.6745
A9: 081-13-30 | B9: Сжим ответвительный У-734М (16-35 : 16-25 мм2) IP20 HLT | C9: шт. | D9: 23.6745
A10: 081-13-31 | B10: Сжим ответвительный У-739М (4-10 : 1,5-2,5 мм2) IP20 HLT | C10: шт. | D10: 23.6745
A11: 081-13-33 | B11: Сжим ответвительный У-870М (95-150 : 16-50 мм2) IP20 HLT | C11: шт. | D11: 174.123
A12: 081-13-34 | B12: Сжим ответвительный У-871М (95-150 : 50-95 мм2) IP20 HLT | C12: шт. | D12: 174.123
A13: 081-13-35 | B13: Сжим ответвительный У-872М (95-150 : 95-120 мм2) IP20 HLT | C13: шт. | D13: 174.123
A14: Шинный терминал
A15: 084-11-10 | B15: Шинный терминал 1-4 мм2 для медной шины 5мм HLT | C15: шт. | D15: 20.682
A16: 084-11-11 | B16: Шинный терминал 16-50 мм2 для медной шины 5мм HLT | C16: шт. | D16: 58.563
A17: 084-11-13 | B17: Шинный терминал 35-70 мм2 для медной шины 5мм HLT | C17: шт. | D17: 76.986
A18: 084-11-14 | B18: Шинный терминал 70-185 мм2 для медной шины 5мм HLT | C18: шт. | D18: 95.553
A19: 084-11-15 | B19: Шинный терминал 1-4 мм2 для медной шины 10мм HLT | C19: шт. | D19: 21.708
A20: 084-11-17 | B20: Шинный терминал 2.5-16 мм2 для медной шины 10мм HLT | C20: шт. | D20: 26.793
A21: 084-11-16 | B21: Шинный терминал 16-50 мм2 для медной шины 10мм HLT | C21: шт. | D21: 62.28
A22: 084-11-18 | B22: Шинный терминал 35-70 мм2 для медной шины 10мм HLT | C22: шт. | D22: 80.136
A23: 084-11-19 | B23: Шинный терминал 70-185 мм2 для медной шины 10мм HLT | C23: шт. | D23: 100.215
A24: Клеммы вводные модульные
A25: 081-13-040 | B25: Клемма вводная для модульного оборудования КВМ 4-25мм2 (боковой ввод) HLT | C25: шт. | D25: 48.8925
A26: 081-13-041 | B26: Клемма вводная для модульного оборудования КВМ 4-25мм2 (прямой ввод) HLT | C26: шт. | D26: 52.065
A27: 081-13-042 | B27: Клемма вводная для модульного оборудования КВМ 4-25мм2 (прямой ввод удлиненная) HLT | C27: шт. | D27: 51.453
A28: Зажимы кабельные для С-профиля
A29: 084-27-001 | B29: Зажим кабельный для С-профиля диаметр кабеля 6-12мм HLT | C29: шт. | D29: 67.743
A30: 084-27-002 | B30: Зажим кабельный для С-профиля диаметр кабеля 12-18мм HLT | C30: шт. | D30: 81.9675
A31: 084-27-003 | B31: Зажим кабельный для С-профиля диаметр кабеля 18-22мм HLT | C31: шт. | D31: 85.3875
A32: 084-27-004 | B32: Зажим кабельный для С-профиля диаметр кабеля 22-30мм HLT | C32: шт. | D32: 96.777
A33: 084-27-005 | B33: Зажим кабельный для С-профиля диаметр кабеля 30-38мм HLT | C33: шт. | D33: 114.795
A34: 084-27-006 | B34: Зажим кабельный для С-профиля диаметр кабеля 38-42мм HLT | C34: шт. | D34: 144.027
A35: 084-27-007 | B35: Зажим кабельный для С-профиля диаметр кабеля 42-50мм HLT | C35: шт. | D35: 175.14
A36: 084-27-008 | B36: Зажим кабельный для С-профиля диаметр кабеля 50-64мм HLT | C36: шт. | D36: 234.927
A37: Сальники Серия MG LX-белый
A38: 083-01-054 | B38: Сальник MG LX 12 диаметр проводника 4-7мм IP68 -белый HLT | C38: шт. | D38: 12.625
A39: 083-01-055 | B39: Сальник MG LX 16 диаметр проводника 6-10мм IP68 -белый HLT | C39: шт. | D39: 15.99
A40: 083-01-056 | B40: Сальник MG LX 20 диаметр проводника 10-14мм IP68 -белый HLT | C40: шт. | D40: 24.305
A41: 083-01-057 | B41: Сальник MG LX 25 диаметр проводника 13-18мм IP68 -белый HLT | C41: шт. | D41: 29.67
...
