Workbook

Sheet FATO
A1: Прайс лист -11.2026г
A2: 1. Аксессуары для Шкафов и Щитов
B3: Распределительные блоки и кросс-модули
A4: 1.1 | C4: Распределительные блоки РБ 1-но полюсные
A5: 1.2 | C5: Распределительные блоки проходные РБП
A6: 1.3 | C6: Шины в корпусе (кросс-модули)
A7: 1.4 | C7: Шины в корпусе (кросс-модули) "Лесенка"
A8: 1.5 | C8: Распределительные блоки РБ 4-х полюсные
A9: 1.6 | C9: Шина универсальная распределительная ШнУР
B10: ИК
A11: 1.7 | C11: Коробка испытательная для счетчиков ИК
B12: Орех
A13: 1.8 | C13: Ответвительный сжим (орех)
B14: Шины N и PE латунные
A15: 1.9 | C15: Шина в корпусном изоляторе на DIN-рейку
A16: 1.1 | C16: Шина с DIN-изоляторе 6x9
A17: 1.11 | C17: Шина с DIN-изоляторе 8x12
A18: 1.12 | C18: Шина с DIN-изоляторе типа "стойка"
A19: 1.13 | C19: Шина в комбинированном DIN-изоляторе типа "стойка"
A20: 1.14 | C20: Шина "N" нулевая в изоляторе ШНИ
A21: 1.15 | C21: Шина с двумя угловыми изоляторами 6x9
A22: 1.16 | C22: Шина с двумя угловыми изоляторами 8x12
A23: 1.17 | C23: Шина на одном угловом изоляторами
A24: 1.18 | C24: Шина с DIN-изоляторе типа "стойка" (розн. упак.)
A25: 1.19 | C25: Шина с DIN-изоляторе (розн. упак.)
A26: 1.2 | C26: Шина с двумя угловыми изоляторами (розн. упак.)
... A36: 1.3 | C36: Шинный терминал
B37: Шина соединительная типа PIN и FORK
A38: 1.31 | C38: Шина соединительная PIN（1M）
A39: 1.32 | C39: Шина соединительная PIN-12 штырей
A40: 1.33 | C40: Шина соединительная FORK（1M）
A41: 1.34 | C41: Шина соединительная FORK - 12 штырей
A42: 1.35 | C42: Шина соединительная PIN утолщенная（1M）
A43: 1.36 | C43: Клеммы вводные модульные
B44: Изоляторы
A45: 1.37 | C45: Изоляторы SM
A46: 1.38 | C46: Изоляторы SM с болтом
A47: 1.39 | C47: Изоляторы "Лесенка"
A48: 1.4 | C48: Изоляторы "Лесенка" с болтом
A49: 1.41 | C49: Изоляторы шинные плоские ИШП
A50: 1.42 | C50: Изоляторы соединительных шпилек
B51: DIN-рейки ( оцинкованная)
A52: 1.43 | C52: DIN-рейки
A53: 1.44 | C53: DIN-рейка усиленная
A54: 1.15 | C54: Ограничители на DIN-рейку
A55: 1.46 | C55: Зажимы кабельные для С-профиля
B56: Колодки клеммные JXB / UK / PT
A57: 1.47 | C57: Зажим наборный JXB
A58: 1.48 | C58: Клеммные колодки JXB (PEN)
A59: 1.49 | C59: Заглушка для ЗНИ
A60: 1.5 | C60: Центральная перемычка
A61: 1.51 | C61: Измерительные клеммы
A62: 1.52 | C62: Маркеры
A63: 1.53 | C63: Зажим наборный UK
A64: 1.54 | C64: Зажим наборный UK（PEN）
A65: 1.55 | C65: Зажим наборный UK для плавких вставок
A66: 1.56 | C66: Аксессуары для зажима наборного UK
A67: 1.57 | C67: Зажим пружинный с нажимной кнопкой PT
A68: 1.58 | C68: Зажим пружинный с нажимной кнопкой PT（PEN）
... A72: 1.62 | C72: Распределительный Блок ПНК
B73: Герметичные кабельные вводы
A74: 1.63 | C74: Сальники типа влагозащищенные PG -белый
A75: 1.64 | C75: Сальники типа влагозащищенные PG -черный
A76: 1.65 | C76: Сальники типа влагозащищенные PG (розн. упак.)
A77: 1.66 | C77: Сальники Серия MG LX -черный
A78: 1.67 | C78: Сальники Серия MG LX -белый
A79: 1.68 | C79: Металлический кабельный ввод Серия PG
A80: 1.69 | C80: Металлический кабельный ввод Серия MG-M
A81: 1.7 | C81: Нейлоновая муфта типа PGL на гофру -черный
A82: 1.71 | C82: Сальники типа влагозащищенные PG -R -белый
A83: 1.72 | C83: Сальники типа влагозащищенные PG -R -черный
A84: 1.73 | C84: Заглушка для отверcтия ОКП-М
A85: 1.74 | C85: Герметичные кабельные коннекторы
A86: 1.75 | B86: Карман для документации
A87: 1.76 | C87: Карман для документации
B88: ЛСМ
A89: 1.77 | C89: Лента спиральная монтажная пластиковая серии ЛСМ -белый
A90: 1.78 | C90: Лента спиральная монтажная пластиковая серии ЛСМ -черный
A91: 1.79 | C91: Бандаж кабельный
A92: 1.8 | C92: Оплетка кабельная из ПЭТ
B93: ПКК
A94: 1.81 | C94: Пластиковый профиль ПКК
B95: Маркер
A96: 1.82 | C96: Маркеры кабельные МК
A97: 1.83 | C97: Маркеры наборные МН
B98: Изоляционные материалы
A99: 1.84 | C99: Изолента ПВХ-0.13х15 мм (10M)
A100: 1.85 | C100: Изолента ПВХ-0.13х15 мм (20M)
A101: 1.86 | C101: Изолента ПВХ-0.15х19 мм (10M)
A102: 1.87 | C102: Изолента ПВХ-0.15х19 мм (20M)
A103: 1.89 | C103: Изолента ХБ
A104: 1.9 | C104: Двухстороняя клейкая лента
B105: Замки
A106: 1.91 | C106: Замки к боксам
B107: Знаки электробезопасности
A108: 1.92 | C108: Знаки электробезопасности
A109: 1.93 | C109: СВОШ
A110: 1.94 | C110: Крышки защитные для вырезов в шкафах IP67
A111: 2.Монтажные Изделия
B112: Установочные клеммы
...

Sheet Прайс
A1: Прайс лист -01.11.2026г | F1: www.hlt.su | J1: Итого (руб.) | M1: В наличии с маркировкой | N1: Маркировка ЧЗ | O1: Статус товара | P1: Ссылка на сайт | Q1: Код класса ETIM | R1: Общий вес （Kg） | U1: Объём （m³）
F2: Скидка % | G2: 0 | J2: =SUM(J7:J3520) -> 0 | R2: =SUM(U7:U3519) -> 0 | U2: =SUM(V7:V3519) -> 0
A3: Артикул | B3: Наименование | C3: Ед. | D3: Заказ | E3: Цена за единицу | F3: Цена за единицу с учетом скидки РУБ (с НДС) | G3: Цена РРЦ с НДС | H3: В наличии | J3: Сумма | K3: Упаковка | R3: Штрих код | S3: Вес нетто（Kg） | T3: Объём Ктр. （m³） | U3: Общий вес нетто (кг) | V3: Объём （м³）
K4: Количество в упаковке, шт./уп. | L4: Кол-во в трансп. коробке Упак.
A5: 1.Аксессуары для Шкафов и Щитов
A6: Распределительные блоки РБ 1-но полюсные | W6: 04.22-已核对
A7: 081-07-01 | B7: Распределительный блок на DIN-рейку РБ-80 1П 80А (1x16/4x6+2x16) HLT | C7: шт. | E7: 342.1 | F7: =E7-E7*$G$2% -> 342.1 | G7: =E7-(20*E7/100) -> 273.68 | H7: 202 | J7: =IF(D7="","",IF(F7="","",ROUND(D7*F7,2))) | K7: 1 | L7: 150 | N7: да | O7: Регулярная | P7: Ссылка | Q7: EC000276 | R7: 4670042790014 | S7: 10.5 | T7: 0.02604 | U7: =S7/L7*D7 -> 0 | V7: =T7/L7*D7 -> 0
A8: 081-07-02 | B8: Распределительный блок на DIN-рейку РБ-125 1П 125А (1x35+1x16/6x16) HLT | C8: шт. | E8: 610.07 | F8: =E8-E8*$G$2% -> 610.07 | G8: =E8-(20*E8/100) -> 488.056 | H8: 368 | J8: =IF(D8="","",IF(F8="","",ROUND(D8*F8,2))) | K8: 1 | L8: 150 | N8: да | O8: Регулярная | P8: Ссылка | Q8: EC000276 | R8: 4670042790021 | S8: 24 | T8: 0.02604 | U8: =S8/L8*D8 -> 0 | V8: =T8/L8*D8 -> 0
A9: 081-07-03 | B9: Распределительный блок на DIN-рейку РБ-160 1П 160А (1x70+1x16/6x16) HLT | C9: шт. | E9: 655.71 | F9: =E9-E9*$G$2% -> 655.71 | G9: =E9-(20*E9/100) -> 524.568 | J9: =IF(D9="","",IF(F9="","",ROUND(D9*F9,2))) | K9: 6 | L9: 150 | N9: да | O9: Регулярная | P9: Ссылка | Q9: EC000276 | R9: 4670042790069 | S9: 24 | T9: 0.02604 | U9: =S9/L9*D9 -> 0 | V9: =T9/L9*D9 -> 0
A10: 081-07-04 | B10: Распределительный блок на DIN-рейку РБ-250 1П 250А (1x120/2x35+ 5x16+ 4x10) HLT | C10: шт. | E10: 1651.72 | F10: =E10-E10*$G$2% -> 1651.72 | G10: =E10-(20*E10/100) -> 1321.376 | J10: =IF(D10="","",IF(F10="","",ROUND(D10*F10,2))) | K10: 1 | L10: 30 | N10: да | O10: Регулярная | P10: Ссылка | Q10: EC000276 | R10: 4670042790076 | S10: 13 | T10: 0.01486375 | U10: =S10/L10*D10 -> 0 | V10: =T10/L10*D10 -> 0
A11: 081-07-05 | B11: Распределительный блок на DIN-рейку РБ-400 1П 400А (1x185/2x35+5x16+ 4x10) HLT | C11: шт. | E11: 1823.6 | F11: =E11-E11*$G$2% -> 1823.6 | G11: =E11-(20*E11/100) -> 1458.88 | H11: 53 | J11: =IF(D11="","",IF(F11="","",ROUND(D11*F11,2))) | K11: 1 | L11: 30 | N11: да | O11: Регулярная | P11: Ссылка | Q11: EC000276 | R11: 4670042790083 | S11: 13 | T11: 0.01486375 | U11: =S11/L11*D11 -> 0 | V11: =T11/L11*D11 -> 0
A12: 081-07-06 | B12: Распределительный блок на DIN-рейку РБ-500 1П 500А (плоские шины от 3x15 до 8x24 / 2x35+5x16+4x10) HLT | C12: шт. | E12: 1942.45 | F12: =E12-E12*$G$2% -> 1942.45 | G12: =E12-(20*E12/100) -> 1553.96 | H12: 22 | J12: =IF(D12="","",IF(F12="","",ROUND(D12*F12,2))) | K12: 1 | L12: 30 | N12: да | O12: Регулярная | P12: Ссылка | Q12: EC000276 | R12: 4670042790090 | S12: 12.5 | T12: 0.01486375 | U12: =S12/L12*D12 -> 0 | V12: =T12/L12*D12 -> 0
A13: Распределительные блок РБЛ "Лесенка"
A14: 081-07-008 | B14: Распределительный блок на DIN-рейку РБЛ "Лесенка"-125 1П 125А (1x35+1x16/6x16) HLT | C14: шт. | E14: 617.07 | F14: =E14-E14*$G$2% -> 617.07 | G14: =E14-(20*E14/100) -> 493.656 | K14: 6 | L14: 120 | N14: да | O14: Регулярная | P14: Ссылка | Q14: EC000276 | R14: 4630076442914 | S14: 16.8 | T14: 0.021384 | U14: =S14/L14*D14 -> 0 | V14: =T14/L14*D14 -> 0
A15: Распределительные блоки проходные РБП | J15: =IF(D15="","",IF(F15="","",ROUND(D15*F15,2))) | W15: 04.22-已核对
A16: 081-07-10 | B16: Распределительный блок проходной РБП 35 (1х35-4х6 мм2) 125/50 А HLT | C16: шт. | E16: 392.57 | F16: =E16-E16*$G$2% -> 392.57 | G16: =E16-(20*E16/100) -> 314.056 | H16: 810 | J16: =IF(D16="","",IF(F16="","",ROUND(D16*F16,2))) | K16: 10 | L16: 200 | N16: да | O16: Регулярная | P16: Ссылка | Q16: EC000276 | R16: 4670042790205 | S16: 15 | T16: 0.0283465 | U16: =S16/L16*D16 -> 0 | V16: =T16/L16*D16 -> 0
A17: 081-07-11 | B17: Распределительный блок проходной РБП 95 (1х95-4х16 мм2) 232/100А HLT | C17: шт. | E17: 755.6 | F17: =E17-E17*$G$2% -> 755.6 | G17: =E17-(20*E17/100) -> 604.48 | J17: =IF(D17="","",IF(F17="","",ROUND(D17*F17,2))) | K17: 8 | L17: 80 | N17: да | O17: Регулярная | P17: Ссылка | Q17: EC000276 | R17: 4670042790212 | S17: 14.8 | T17: 0.025245 | U17: =S17/L17*D17 -> 0 | V17: =T17/L17*D17 -> 0
A18: Шины в корпусе (кросс-модули) | J18: =IF(D18="","",IF(F18="","",ROUND(D18*F18,2))) | W18: 04.24-已核对
A19: 081-06-01 | B19: Шины на DIN-рейку в корпусе (кросс-модуль) L+PEN 2x7 HLT | C19: шт. | E19: 443.81 | F19: =E19-E19*$G$2% -> 443.81 | G19: =E19-(20*E19/100) -> 355.048 | H19: 676 | J19: =IF(D19="","",IF(F19="","",ROUND(D19*F19,2))) | K19: 1 | L19: 100 | N19: да | O19: Регулярная | P19: Ссылка | Q19: EC001894 | R19: 4670042790229 | S19: 13 | T19: 0.0242 | U19: =S19/L19*D19 -> 0 | V19: =T19/L19*D19 -> 0
A20: 081-06-02 | B20: Шины на DIN-рейку в корпусе (кросс-модуль) L+PEN 2x11 HLT | C20: шт. | E20: 643.35 | F20: =E20-E20*$G$2% -> 643.35 | G20: =E20-(20*E20/100) -> 514.68 | H20: 312 | J20: =IF(D20="","",IF(F20="","",ROUND(D20*F20,2))) | K20: 1 | L20: 100 | N20: да | O20: Регулярная | P20: Ссылка | Q20: EC001894 | R20: 4670042790236 | S20: 17.5 | T20: 0.05 | U20: =S20/L20*D20 -> 0 | V20: =T20/L20*D20 -> 0
A21: 081-06-03 | B21: Шины на DIN-рейку в корпусе (кросс-модуль) L+PEN 2x15 HLT | C21: шт. | E21: 798.17 | F21: =E21-E21*$G$2% -> 798.17 | G21: =E21-(20*E21/100) -> 638.536 | H21: 1066 | J21: =IF(D21="","",IF(F21="","",ROUND(D21*F21,2))) | K21: 1 | L21: 100 | N21: да | O21: Регулярная | P21: Ссылка | Q21: EC001894 | R21: 4670042790243 | S21: 27.5 | T21: 0.0402 | U21: =S21/L21*D21 -> 0 | V21: =T21/L21*D21 -> 0
A22: 081-06-04 | B22: Шины на DIN-рейку в корпусе (кросс-модуль) 3L+PEN 4x7 HLT | C22: шт. | E22: 834.37 | F22: =E22-E22*$G$2% -> 834.37 | G22: =E22-(20*E22/100) -> 667.496 | H22: 149 | J22: =IF(D22="","",IF(F22="","",ROUND(D22*F22,2))) | K22: 1 | L22: 100 | N22: да | O22: Регулярная | P22: Ссылка | Q22: EC001894 | R22: 4670042790250 | S22: 25 | T22: 0.0440115 | U22: =S22/L22*D22 -> 0 | V22: =T22/L22*D22 -> 0
A23: 081-06-05 | B23: Шины на DIN-рейку в корпусе (кросс-модуль) 3L+PEN 4x11 HLT | C23: шт. | E23: 1075.93 | F23: =E23-E23*$G$2% -> 1075.93 | G23: =E23-(20*E23/100) -> 860.744 | H23: 469 | J23: =IF(D23="","",IF(F23="","",ROUND(D23*F23,2))) | K23: 1 | L23: 50 | N23: да | O23: Регулярная | P23: Ссылка | Q23: EC001894 | R23: 4670042790267 | S23: 20.5 | T23: 0.032054 | U23: =S23/L23*D23 -> 0 | V23: =T23/L23*D23 -> 0
A24: 081-06-06 | B24: Шины на DIN-рейку в корпусе (кросс-модуль) 3L+PEN 4x15 HLT | C24: шт. | E24: 1314.08 | F24: =E24-E24*$G$2% -> 1314.08 | G24: =E24-(20*E24/100) -> 1051.264 | H24: 1273 | J24: =IF(D24="","",IF(F24="","",ROUND(D24*F24,2))) | K24: 1 | L24: 50 | N24: да | O24: Регулярная | P24: Ссылка | Q24: EC001894 | R24: 4670042790274 | S24: 28 | T24: 0.04024475 | U24: =S24/L24*D24 -> 0 | V24: =T24/L24*D24 -> 0
A25: Распределительные блоки РБ 4-X полюсные | J25: =IF(D25="","",IF(F25="","",ROUND(D25*F25,2)))
A26: 081-08-01 | B26: Распределительный блок на DIN-рейку РБ-160 4П 160А (4 шины 2x9+2x8+7x7+1x12) HLT | C26: шт. | E26: 3703.61 | F26: =E26-E26*$G$2% -> 3703.61 | G26: =E26-(20*E26/100) -> 2962.888 | H26: 27 | J26: =IF(D26="","",IF(F26="","",ROUND(D26*F26,2))) | K26: 1 | L26: 20 | N26: да | O26: Регулярная | P26: Ссылка | Q26: EC001894 | R26: 4670042790298 | S26: 18 | T26: 0.05544 | U26: =S26/L26*D26 -> 0 | V26: =T26/L26*D26 -> 0
A27: 081-08-02 | B27: Распределительный блок на DIN-рейку РБ-200 4П 200А (4 шины 10xM6+1xM8) HLT | C27: шт. | E27: 6692.82 | F27: =E27-E27*$G$2% -> 6692.82 | G27: =E27-(20*E27/100) -> 5354.256 | H27: 20 | J27: =IF(D27="","",IF(F27="","",ROUND(D27*F27,2))) | K27: 1 | L27: 10 | N27: да | O27: Регулярная | P27: Ссылка | Q27: EC001894 | R27: 4670042790304 | S27: 15 | T27: 0.0819 | U27: =S27/L27*D27 -> 0 | V27: =T27/L27*D27 -> 0
A28: 081-08-03 | B28: Распределительный блок на DIN-рейку РБ-250 4П 250А (4 шины 10xM6+1xM8) HLT | C28: шт. | E28: 6659.42 | F28: =E28-E28*$G$2% -> 6659.42 | G28: =E28-(20*E28/100) -> 5327.536 | H28: 6 | J28: =IF(D28="","",IF(F28="","",ROUND(D28*F28,2))) | K28: 1 | L28: 10 | N28: да | O28: Регулярная | P28: Ссылка | Q28: EC001894 | R28: 4670042790311 | S28: 18 | T28: 0.0819 | U28: =S28/L28*D28 -> 0 | V28: =T28/L28*D28 -> 0
A29: 081-08-04 | B29: Распределительный блок РБ-400 4П 400А (4 шины 10xM6+1xM8) HLT | C29: шт. | E29: 8325.51 | F29: =E29-E29*$G$2% -> 8325.51 | G29: =E29-(20*E29/100) -> 6660.408 | I29: 19.11.2026 | J29: =IF(D29="","",IF(F29="","",ROUND(D29*F29,2))) | K29: 1 | L29: 10 | N29: да | O29: Регулярная | P29: Ссылка | Q29: EC001894 | R29: 4670042790328 | S29: 18.7 | T29: 0.065 | U29: =S29/L29*D29 -> 0 | V29: =T29/L29*D29 -> 0
A30: Шина универсальная распределительная ШнУР | J30: =IF(D30="","",IF(F30="","",ROUND(D30*F30,2)))
A31: 081-17-01 | B31: Шина универсальная распределительная ШнУР 1 в корпусе 2 ввода 7 групп 160 А HLT | C31: шт. | E31: 875.9 | F31: =E31-E31*$G$2% -> 875.9 | G31: =E31-(20*E31/100) -> 700.72 | I31: 19.11.2026 | J31: =IF(D31="","",IF(F31="","",ROUND(D31*F31,2))) | K31: 1 | L31: 50 | N31: да | O31: Регулярная | P31: Ссылка | Q31: EC000275 | R31: 4670042790281 | S31: 14.5 | T31: 0.027 | U31: =S31/L31*D31 -> 0 | V31: =T31/L31*D31 -> 0
A32: Коробка испытательная для счетчиков ИК | J32: =IF(D32="","",IF(F32="","",ROUND(D32*F32,2)))
A33: 081-22-02 | B33: Коробка клеммная испытательная ККИ HLT | C33: шт. | E33: 745.9 | F33: =E33-E33*$G$2% -> 745.9 | G33: =E33-(20*E33/100) -> 596.72 | H33: 554 | J33: =IF(D33="","",IF(F33="","",ROUND(D33*F33,2))) | K33: 1 | L33: 20 | N33: да | O33: Регулярная | P33: Ссылка | Q33: EC002295 | R33: 4670042790335 | S33: 8 | T33: 0.0312 | U33: =S33/L33*D33 -> 0 | V33: =T33/L33*D33 -> 0
A34: Ответвительный сжим (орех) | J34: =IF(D34="","",IF(F34="","",ROUND(D34*F34,2)))
A35: 081-13-28 | B35: Сжим ответвительный У-731М (4-10 : 1,5-10 мм2) IP20 HLT | C35: шт. | E35: 52.61 | F35: =E35-E35*$G$2% -> 52.61 | G35: =E35-(20*E35/100) -> 42.088 | H35: 4920 | J35: =IF(D35="","",IF(F35="","",ROUND(D35*F35,2))) | K35: 18 | L35: 216 | N35: да | O35: Регулярная | P35: Ссылка | Q35: EC001062 | R35: 4670042790359 | S35: 10 | T35: 0.17901338 | U35: =S35/L35*D35 -> 0 | V35: =T35/L35*D35 -> 0
A36: 081-13-29 | B36: Сжим ответвительный У-733М (16-35 : 1,5-10 мм2) IP20 HLT | C36: шт. | E36: 52.61 | F36: =E36-E36*$G$2% -> 52.61 | G36: =E36-(20*E36/100) -> 42.088 | J36: =IF(D36="","",IF(F36="","",ROUND(D36*F36,2))) | K36: 18 | L36: 216 | N36: да | O36: Регулярная | P36: Ссылка | Q36: EC001062 | R36: 4670042790366 | S36: 10 | T36: 0.17901338 | U36: =S36/L36*D36 -> 0 | V36: =T36/L36*D36 -> 0
A37: 081-13-30 | B37: Сжим ответвительный У-734М (16-35 : 16-25 мм2) IP20 HLT | C37: шт. | E37: 52.61 | F37: =E37-E37*$G$2% -> 52.61 | G37: =E37-(20*E37/100) -> 42.088 | H37: 3 | J37: =IF(D37="","",IF(F37="","",ROUND(D37*F37,2))) | K37: 60 | L37: 360 | N37: да | O37: Регулярная | P37: Ссылка | Q37: EC001062 | R37: 4670042790373 | S37: 10 | T37: 0.17901338 | U37: =S37/L37*D37 -> 0 | V37: =T37/L37*D37 -> 0
A38: 081-13-31 | B38: Сжим ответвительный У-739М (4-10 : 1,5-2,5 мм2) IP20 HLT | C38: шт. | E38: 52.61 | F38: =E38-E38*$G$2% -> 52.61 | G38: =E38-(20*E38/100) -> 42.088 | H38: 2681 | J38: =IF(D38="","",IF(F38="","",ROUND(D38*F38,2))) | K38: 18 | L38: 216 | N38: да | O38: Регулярная | P38: Ссылка | Q38: EC001062 | R38: 4670042790380 | S38: 10 | T38: 0.13923262 | U38: =S38/L38*D38 -> 0 | V38: =T38/L38*D38 -> 0
A39: 081-13-32 | B39: Сжим ответвительный У-859М (50-70 : 4-35 мм2) IP20 HLT | C39: шт. | E39: 152.9 | F39: =E39-E39*$G$2% -> 152.9 | G39: =E39-(20*E39/100) -> 122.32 | J39: =IF(D39="","",IF(F39="","",ROUND(D39*F39,2))) | K39: 16 | L39: 96 | N39: да | O39: Регулярная | P39: Ссылка | Q39: EC001062 | R39: 4670042790397 | S39: 13.6 | T39: 0.115005 | U39: =S39/L39*D39 -> 0 | V39: =T39/L39*D39 -> 0
A40: 081-13-33 | B40: Сжим ответвительный У-870М (95-150 : 16-50 мм2) IP20 HLT | C40: шт. | E40: 386.94 | F40: =E40-E40*$G$2% -> 386.94 | G40: =E40-(20*E40/100) -> 309.552 | H40: 1 | J40: =IF(D40="","",IF(F40="","",ROUND(D40*F40,2))) | K40: 2 | L40: 24 | N40: да | O40: Регулярная | P40: Ссылка | Q40: EC001062 | R40: 4670042790403 | S40: 10 | T40: 0.05621175 | U40: =S40/L40*D40 -> 0 | V40: =T40/L40*D40 -> 0
A41: 081-13-34 | B41: Сжим ответвительный У-871М (95-150 : 50-95 мм2) IP20 HLT | C41: шт. | E41: 386.94 | F41: =E41-E41*$G$2% -> 386.94 | G41: =E41-(20*E41/100) -> 309.552 | H41: 89 | J41: =IF(D41="","",IF(F41="","",ROUND(D41*F41,2))) | K41: 8 | L41: 32 | N41: да | O41: Регулярная | P41: Ссылка | Q41: EC001062 | R41: 4670042790410 | S41: 10 | T41: 0.05621175 | U41: =S41/L41*D41 -> 0 | V41: =T41/L41*D41 -> 0
A42: 081-13-35 | B42: Сжим ответвительный У-872М (95-150 : 95-120 мм2) IP20 HLT | C42: шт. | E42: 386.94 | F42: =E42-E42*$G$2% -> 386.94 | G42: =E42-(20*E42/100) -> 309.552 | J42: =IF(D42="","",IF(F42="","",ROUND(D42*F42,2))) | K42: 2 | L42: 24 | N42: да | O42: Регулярная | P42: Ссылка | Q42: EC001062 | R42: 4670042790427 | S42: 10 | T42: 0.0374745 | U42: =S42/L42*D42 -> 0 | V42: =T42/L42*D42 -> 0
A43: Шина в корпусном изоляторе на DIN-рейку | J43: =IF(D43="","",IF(F43="","",ROUND(D43*F43,2)))
A44: 081-03-21 | B44: Шина PE "земля" в корп изол на DIN-рейку ШНИ-6х9-7-К-зеленая HLT | C44: шт. | E44: 112.16 | F44: =E44-E44*$G$2% -> 112.16 | G44: =E44-(20*E44/100) -> 89.728 | I44: 19.11.2026 | J44: =IF(D44="","",IF(F44="","",ROUND(D44*F44,2))) | K44: 10 | L44: 400 | N44: да | O44: Регулярная | P44: Ссылка | Q44: EC000275 | R44: 4670042790434 | S44: 8.9 | T44: 0.01485 | U44: =S44/L44*D44 -> 0 | V44: =T44/L44*D44 -> 0
A45: 081-05-02 | B45: Шина PE "земля" в корп изол на DIN-рейку ШНИ-6х9-10-К-зеленая HLT | C45: шт. | E45: 135.33 | F45: =E45-E45*$G$2% -> 135.33 | G45: =E45-(20*E45/100) -> 108.264 | H45: 300 | I45: 19.11.2026 | J45: =IF(D45="","",IF(F45="","",ROUND(D45*F45,2))) | K45: 10 | L45: 400 | N45: да | O45: Регулярная | P45: Ссылка | Q45: EC000275 | R45: 4670042790441 | S45: 13.9 | T45: 0.01794 | U45: =S45/L45*D45 -> 0 | V45: =T45/L45*D45 -> 0
A46: 081-03-22 | B46: Шина PE "земля" в корп изол на DIN-рейку ШНИ-6х9-12-К-зеленая HLT | C46: шт. | E46: 158.19 | F46: =E46-E46*$G$2% -> 158.19 | G46: =E46-(20*E46/100) -> 126.552 | H46: 1650 | J46: =IF(D46="","",IF(F46="","",ROUND(D46*F46,2))) | K46: 10 | L46: 300 | N46: да | O46: Регулярная | P46: Ссылка | Q46: EC000275 | R46: 4670042790458 | S46: 12 | T46: 0.01485 | U46: =S46/L46*D46 -> 0 | V46: =T46/L46*D46 -> 0
A47: 081-05-04 | B47: Шина PE "земля" в корп изол на DIN-рейку ШНИ-6х9-15-К-зеленая HLT | C47: шт. | E47: 170.06 | F47: =E47-E47*$G$2% -> 170.06 | G47: =E47-(20*E47/100) -> 136.048 | H47: 520 | J47: =IF(D47="","",IF(F47="","",ROUND(D47*F47,2))) | K47: 10 | L47: 300 | N47: да | O47: Регулярная | P47: Ссылка | Q47: EC000275 | R47: 4670042790465 | S47: 14.1 | T47: 0.01794 | U47: =S47/L47*D47 -> 0 | V47: =T47/L47*D47 -> 0
A48: 081-05-011 | B48: Шина PE "земля" в корп изол на DIN-рейку ШНИ-6х9-7-К-синяя HLT | C48: шт. | E48: 112.16 | F48: =E48-E48*$G$2% -> 112.16 | G48: =E48-(20*E48/100) -> 89.728 | H48: 440 | J48: =IF(D48="","",IF(F48="","",ROUND(D48*F48,2))) | K48: 10 | L48: 400 | N48: да | O48: Регулярная | P48: Ссылка | Q48: EC000275 | R48: 4630076440361 | S48: 8.9 | T48: 0.01485 | U48: =S48/L48*D48 -> 0 | V48: =T48/L48*D48 -> 0
A49: 081-05-012 | B49: Шина PE "земля" в корп изол на DIN-рейку ШНИ-6х9-10-К-синяя HLT | C49: шт. | E49: 135.33 | F49: =E49-E49*$G$2% -> 135.33 | G49: =E49-(20*E49/100) -> 108.264 | H49: 300 | I49: 19.11.2026 | J49: =IF(D49="","",IF(F49="","",ROUND(D49*F49,2))) | K49: 10 | L49: 400 | N49: да | O49: Регулярная | P49: Ссылка | Q49: EC000275 | R49: 4630076440378 | S49: 13.9 | T49: 0.01794 | U49: =S49/L49*D49 -> 0 | V49: =T49/L49*D49 -> 0
A50: 081-05-013 | B50: Шина PE "земля" в корп изол на DIN-рейку ШНИ-6х9-12-К-синяя HLT | C50: шт. | E50: 158.19 | F50: =E50-E50*$G$2% -> 158.19 | G50: =E50-(20*E50/100) -> 126.552 | H50: 1430 | J50: =IF(D50="","",IF(F50="","",ROUND(D50*F50,2))) | K50: 10 | L50: 300 | N50: да | O50: Регулярная | P50: Ссылка | Q50: EC000275 | R50: 4630076440385 | S50: 12 | T50: 0.01485 | U50: =S50/L50*D50 -> 0 | V50: =T50/L50*D50 -> 0
A51: 081-05-014 | B51: Шина PE "земля" в корп изол на DIN-рейку ШНИ-6х9-15-К-синяя HLT | C51: шт. | E51: 170.06 | F51: =E51-E51*$G$2% -> 170.06 | G51: =E51-(20*E51/100) -> 136.048 | H51: 640 | J51: =IF(D51="","",IF(F51="","",ROUND(D51*F51,2))) | K51: 10 | L51: 300 | N51: да | O51: Регулярная | P51: Ссылка | Q51: EC000275 | R51: 4630076440392 | S51: 14.1 | T51: 0.01794 | U51: =S51/L51*D51 -> 0 | V51: =T51/L51*D51 -> 0
A52: Шина с DIN-изоляторе 6x9 | J52: =IF(D52="","",IF(F52="","",ROUND(D52*F52,2)))
A53: 081-03-01 | B53: Шина N "ноль" на DIN-изол ШНИ-6х9-4-Д-желтая HLT | C53: шт. | E53: 70.08 | F53: =E53-E53*$G$2% -> 70.08 | G53: =E53-(20*E53/100) -> 56.064 | H53: 3710 | J53: =IF(D53="","",IF(F53="","",ROUND(D53*F53,2))) | K53: 10 | L53: 300 | N53: да | O53: Регулярная | P53: Ссылка | Q53: EC000275 | R53: 4670042791042 | S53: 8 | T53: 0.022120875 | U53: =S53/L53*D53 -> 0 | V53: =T53/L53*D53 -> 0
A54: 081-03-02 | B54: Шина N "ноль" на DIN-изол ШНИ-6х9-6-Д-желтая HLT | C54: шт. | E54: 83.05 | F54: =E54-E54*$G$2% -> 83.05 | G54: =E54-(20*E54/100) -> 66.44 | H54: 784 | J54: =IF(D54="","",IF(F54="","",ROUND(D54*F54,2))) | K54: 10 | L54: 300 | N54: да | O54: Регулярная | P54: Ссылка | Q54: EC000275 | R54: 4670042791059 | S54: 10.5 | T54: 0.022120875 | U54: =S54/L54*D54 -> 0 | V54: =T54/L54*D54 -> 0
A55: 081-03-03 | B55: Шина N "ноль" на DIN-изол ШНИ-6х9-8-Д-желтая HLT | C55: шт. | E55: 96.17 | F55: =E55-E55*$G$2% -> 96.17 | G55: =E55-(20*E55/100) -> 76.936 | H55: 681 | J55: =IF(D55="","",IF(F55="","",ROUND(D55*F55,2))) | K55: 10 | L55: 300 | N55: да | O55: Регулярная | P55: Ссылка | Q55: EC000275 | R55: 4670042791066 | S55: 10.5 | T55: 0.022120875 | U55: =S55/L55*D55 -> 0 | V55: =T55/L55*D55 -> 0
A56: 081-03-04 | B56: Шина N "ноль" на DIN-изол ШНИ-6х9-10-Д-желтая HLT | C56: шт. | E56: 110.06 | F56: =E56-E56*$G$2% -> 110.06 | G56: =E56-(20*E56/100) -> 88.048 | H56: 100 | J56: =IF(D56="","",IF(F56="","",ROUND(D56*F56,2))) | K56: 10 | L56: 300 | N56: да | O56: Регулярная | P56: Ссылка | Q56: EC000275 | R56: 4670042791073 | S56: 12 | T56: 0.022120875 | U56: =S56/L56*D56 -> 0 | V56: =T56/L56*D56 -> 0
A57: 081-03-05 | B57: Шина N "ноль" на DIN-изол ШНИ-6х9-12-Д-желтая HLT | C57: шт. | E57: 125.38 | F57: =E57-E57*$G$2% -> 125.38 | G57: =E57-(20*E57/100) -> 100.304 | H57: 440 | J57: =IF(D57="","",IF(F57="","",ROUND(D57*F57,2))) | K57: 10 | L57: 300 | N57: да | O57: Регулярная | P57: Ссылка | Q57: EC000275 | R57: 4670042791080 | S57: 14 | T57: 0.022120875 | U57: =S57/L57*D57 -> 0 | V57: =T57/L57*D57 -> 0
A58: 081-03-06 | B58: Шина N "ноль" на DIN-изол ШНИ-6х9-14-Д-желтая HLT | C58: шт. | E58: 152.64 | F58: =E58-E58*$G$2% -> 152.64 | G58: =E58-(20*E58/100) -> 122.112 | I58: 19.11.2026 | J58: =IF(D58="","",IF(F58="","",ROUND(D58*F58,2))) | K58: 10 | L58: 300 | N58: да | O58: Регулярная | P58: Ссылка | Q58: EC000275 | R58: 4670042791097 | S58: 16.5 | T58: 0.033870375 | U58: =S58/L58*D58 -> 0 | V58: =T58/L58*D58 -> 0
A59: 081-03-07 | B59: Шина N "ноль" на DIN-изол ШНИ-6х9-16-Д-желтая HLT | C59: шт. | E59: 195.05 | F59: =E59-E59*$G$2% -> 195.05 | G59: =E59-(20*E59/100) -> 156.04 | H59: 640 | J59: =IF(D59="","",IF(F59="","",ROUND(D59*F59,2))) | K59: 10 | L59: 300 | N59: да | O59: Регулярная | P59: Ссылка | Q59: EC000275 | R59: 4670042791103 | S59: 16.5 | T59: 0.033870375 | U59: =S59/L59*D59 -> 0 | V59: =T59/L59*D59 -> 0
A60: 081-03-41 | B60: Шина N "ноль" на DIN-изол ШНИ-6х9-6-Д-синяя HLT | C60: шт. | E60: 83.05 | F60: =E60-E60*$G$2% -> 83.05 | G60: =E60-(20*E60/100) -> 66.44 | I60: 19.11.2026 | J60: =IF(D60="","",IF(F60="","",ROUND(D60*F60,2))) | K60: 10 | L60: 300 | N60: да | O60: Регулярная | P60: Ссылка | Q60: EC000275 | R60: 4670042791110 | S60: 8 | T60: 0.022120875 | U60: =S60/L60*D60 -> 0 | V60: =T60/L60*D60 -> 0
A61: 081-03-42 | B61: Шина N "ноль" на DIN-изол ШНИ-6х9-8-Д-синяя HLT | C61: шт. | E61: 96.17 | F61: =E61-E61*$G$2% -> 96.17 | G61: =E61-(20*E61/100) -> 76.936 | I61: 19.11.2026 | J61: =IF(D61="","",IF(F61="","",ROUND(D61*F61,2))) | K61: 10 | L61: 300 | N61: да | O61: Регулярная | P61: Ссылка | Q61: EC000275 | R61: 4670042791127 | S61: 14 | T61: 0.0316 | U61: =S61/L61*D61 -> 0 | V61: =T61/L61*D61 -> 0
A62: 081-03-44 | B62: Шина N "ноль" на DIN-изол ШНИ-6х9-12-Д-синяя HLT | C62: шт. | E62: 152.64 | F62: =E62-E62*$G$2% -> 152.64 | G62: =E62-(20*E62/100) -> 122.112 | I62: 19.11.2026 | J62: =IF(D62="","",IF(F62="","",ROUND(D62*F62,2))) | K62: 10 | L62: 300 | N62: да | O62: Регулярная | P62: Ссылка | Q62: EC000275 | R62: 4670042791134 | S62: 14 | T62: 0.022120875 | U62: =S62/L62*D62 -> 0 | V62: =T62/L62*D62 -> 0
A63: 081-03-45 | B63: Шина N "ноль" на DIN-изол ШНИ-6х9-14-Д-синяя HLT | C63: шт. | E63: 195.05 | F63: =E63-E63*$G$2% -> 195.05 | G63: =E63-(20*E63/100) -> 156.04 | H63: 170 | J63: =IF(D63="","",IF(F63="","",ROUND(D63*F63,2))) | K63: 10 | L63: 300 | N63: да | O63: Регулярная | P63: Ссылка | Q63: EC000275 | R63: 4670042791141 | S63: 16.5 | T63: 0.033870375 | U63: =S63/L63*D63 -> 0 | V63: =T63/L63*D63 -> 0
A64: Шина с DIN-изоляторе 8x12 | J64: =IF(D64="","",IF(F64="","",ROUND(D64*F64,2)))
A65: 081-03-12 | B65: Шина N "ноль" на DIN-изол ШНИ-8х12-4-Д-желтая HLT | C65: шт. | E65: 140.4 | F65: =E65-E65*$G$2% -> 140.4 | G65: =E65-(20*E65/100) -> 112.32 | H65: 500 | J65: =IF(D65="","",IF(F65="","",ROUND(D65*F65,2))) | K65: 10 | L65: 300 | N65: да | O65: Регулярная | P65: Ссылка | Q65: EC000275 | R65: 4630076449951 | S65: 12.3 | T65: 0.022120875 | U65: =S65/L65*D65 -> 0 | V65: =T65/L65*D65 -> 0
A66: 081-03-13 | B66: Шина N "ноль" на DIN-изол ШНИ-8х12-6-Д-желтая HLT | C66: шт. | E66: 172.82 | F66: =E66-E66*$G$2% -> 172.82 | G66: =E66-(20*E66/100) -> 138.256 | H66: 510 | J66: =IF(D66="","",IF(F66="","",ROUND(D66*F66,2))) | K66: 10 | L66: 300 | N66: да | O66: Регулярная | P66: Ссылка | Q66: EC000275 | R66: 4670042791158 | S66: 22.2 | T66: 0.021756 | U66: =S66/L66*D66 -> 0 | V66: =T66/L66*D66 -> 0
A67: 081-03-14 | B67: Шина N "ноль" на DIN-изол ШНИ-8х12-8-Д-желтая HLT | C67: шт. | E67: 194.85 | F67: =E67-E67*$G$2% -> 194.85 | G67: =E67-(20*E67/100) -> 155.88 | I67: 19.11.2026 | J67: =IF(D67="","",IF(F67="","",ROUND(D67*F67,2))) | K67: 10 | L67: 300 | N67: да | O67: Регулярная | P67: Ссылка | Q67: EC000275 | R67: 4670042791165 | S67: 27.2 | T67: 0.021756 | U67: =S67/L67*D67 -> 0 | V67: =T67/L67*D67 -> 0
A68: 081-03-15 | B68: Шина N "ноль" на DIN-изол ШНИ-8х12-10-Д-желтая HLT | C68: шт. | E68: 237.09 | F68: =E68-E68*$G$2% -> 237.09 | G68: =E68-(20*E68/100) -> 189.672 | H68: 500 | J68: =IF(D68="","",IF(F68="","",ROUND(D68*F68,2))) | K68: 10 | L68: 300 | N68: да | O68: Регулярная | P68: Ссылка | Q68: EC000275 | R68: 4670042791172 | S68: 33.2 | T68: 0.03024 | U68: =S68/L68*D68 -> 0 | V68: =T68/L68*D68 -> 0
A69: 081-03-16 | B69: Шина N "ноль" на DIN-изол ШНИ-8х12-12-Д-желтая HLT | C69: шт. | E69: 284.64 | F69: =E69-E69*$G$2% -> 284.64 | G69: =E69-(20*E69/100) -> 227.712 | I69: 19.11.2026 | J69: =IF(D69="","",IF(F69="","",ROUND(D69*F69,2))) | K69: 10 | L69: 300 | N69: да | O69: Регулярная | P69: Ссылка | Q69: EC000275 | R69: 4670042791189 | S69: 37.2 | T69: 0.03024 | U69: =S69/L69*D69 -> 0 | V69: =T69/L69*D69 -> 0
A70: 081-03-17 | B70: Шина N "ноль" на DIN-изол ШНИ-8х12-14-Д-желтая HLT | C70: шт. | E70: 292.1 | F70: =E70-E70*$G$2% -> 292.1 | G70: =E70-(20*E70/100) -> 233.68 | I70: 19.11.2026 | J70: =IF(D70="","",IF(F70="","",ROUND(D70*F70,2))) | K70: 10 | L70: 300 | N70: да | O70: Регулярная | P70: Ссылка | Q70: EC000275 | R70: 4630076449968 | S70: 31.5 | T70: 0.033 | U70: =S70/L70*D70 -> 0 | V70: =T70/L70*D70 -> 0
A71: 081-03-126 | B71: Шина N "ноль" на DIN-изол ШНИ-8х12-4-Д-синяя HLT | C71: шт. | E71: 140.4 | F71: =E71-E71*$G$2% -> 140.4 | G71: =E71-(20*E71/100) -> 112.32 | H71: 330 | J71: =IF(D71="","",IF(F71="","",ROUND(D71*F71,2))) | K71: 10 | L71: 300 | N71: да | O71: Регулярная | P71: Ссылка | Q71: EC000275 | R71: 4630076449852 | S71: 12.3 | T71: 0.022120875 | U71: =S71/L71*D71 -> 0 | V71: =T71/L71*D71 -> 0
A72: 081-03-127 | B72: Шина N "ноль" на DIN-изол ШНИ-8х12-6-Д-синяя HLT | C72: шт. | E72: 172.82 | F72: =E72-E72*$G$2% -> 172.82 | G72: =E72-(20*E72/100) -> 138.256 | H72: 510 | J72: =IF(D72="","",IF(F72="","",ROUND(D72*F72,2))) | K72: 10 | L72: 300 | N72: да | O72: Регулярная | P72: Ссылка | Q72: EC000275 | R72: 4630076449791 | S72: 22.2 | T72: 0.021756 | U72: =S72/L72*D72 -> 0 | V72: =T72/L72*D72 -> 0
A73: 081-03-128 | B73: Шина N "ноль" на DIN-изол ШНИ-8х12-8-Д-синяя HLT | C73: шт. | E73: 194.85 | F73: =E73-E73*$G$2% -> 194.85 | G73: =E73-(20*E73/100) -> 155.88 | J73: =IF(D73="","",IF(F73="","",ROUND(D73*F73,2))) | K73: 10 | L73: 300 | N73: да | O73: Регулярная | P73: Ссылка | Q73: EC000275 | R73: 4630076449807 | S73: 27.2 | T73: 0.021756 | U73: =S73/L73*D73 -> 0 | V73: =T73/L73*D73 -> 0
A74: 081-03-129 | B74: Шина N "ноль" на DIN-изол ШНИ-8х12-10-Д-синяя HLT | C74: шт. | E74: 237.09 | F74: =E74-E74*$G$2% -> 237.09 | G74: =E74-(20*E74/100) -> 189.672 | I74: 19.11.2026 | J74: =IF(D74="","",IF(F74="","",ROUND(D74*F74,2))) | K74: 10 | L74: 300 | N74: да | O74: Регулярная | P74: Ссылка | Q74: EC000275 | R74: 4630076449814 | S74: 33.2 | T74: 0.03024 | U74: =S74/L74*D74 -> 0 | V74: =T74/L74*D74 -> 0
A75: 081-03-130 | B75: Шина N "ноль" на DIN-изол ШНИ-8х12-12-Д-синяя HLT | C75: шт. | E75: 284.64 | F75: =E75-E75*$G$2% -> 284.64 | G75: =E75-(20*E75/100) -> 227.712 | J75: =IF(D75="","",IF(F75="","",ROUND(D75*F75,2))) | K75: 10 | L75: 300 | N75: да | O75: Регулярная | P75: Ссылка | Q75: EC000275 | R75: 4630076449821 | S75: 37.2 | T75: 0.03024 | U75: =S75/L75*D75 -> 0 | V75: =T75/L75*D75 -> 0
A76: 081-03-131 | B76: Шина N "ноль" на DIN-изол ШНИ-8х12-14-Д-синяя HLT | C76: шт. | E76: 292.1 | F76: =E76-E76*$G$2% -> 292.1 | G76: =E76-(20*E76/100) -> 233.68 | I76: 19.11.2026 | J76: =IF(D76="","",IF(F76="","",ROUND(D76*F76,2))) | K76: 10 | L76: 300 | N76: да | O76: Регулярная | P76: Ссылка | Q76: EC000275 | R76: 4630076449838 | S76: 30 | T76: 0.0302 | U76: =S76/L76*D76 -> 0 | V76: =T76/L76*D76 -> 0
A77: 081-03-132 | B77: Шина N "ноль" на DIN-изол ШНИ-8х12-16-Д-синяя HLT | C77: шт. | E77: 370.02 | F77: =E77-E77*$G$2% -> 370.02 | G77: =E77-(20*E77/100) -> 296.016 | H77: 40 | J77: =IF(D77="","",IF(F77="","",ROUND(D77*F77,2))) | K77: 10 | L77: 300 | N77: да | O77: Регулярная | P77: Ссылка | Q77: EC000275 | R77: 4630076449845 | S77: 33.6 | T77: 0.04024475 | U77: =S77/L77*D77 -> 0 | V77: =T77/L77*D77 -> 0
A78: Шина на DIN-изоляторе типа "стойка" | J78: =IF(D78="","",IF(F78="","",ROUND(D78*F78,2)))
A79: 081-03-55 | B79: Шина N "ноль" на DIN-изол тип "Стойка" ШНИ-6х9-7-синяя HLT | C79: шт. | E79: 81.05 | F79: =E79-E79*$G$2% -> 81.05 | G79: =E79-(20*E79/100) -> 64.84 | I79: 19.11.2026 | J79: =IF(D79="","",IF(F79="","",ROUND(D79*F79,2))) | K79: 25 | L79: 500 | N79: да | O79: Регулярная | P79: Ссылка | Q79: EC000275 | R79: 4670042791196 | S79: 12.5 | T79: 0.0190125 | U79: =S79/L79*D79 -> 0 | V79: =T79/L79*D79 -> 0
A80: 081-03-56 | B80: Шина N "ноль" на DIN-изол тип "Стойка" ШНИ-6х9-8-синяя HLT | C80: шт. | E80: 93.23 | F80: =E80-E80*$G$2% -> 93.23 | G80: =E80-(20*E80/100) -> 74.584 | I80: 19.11.2026 | J80: =IF(D80="","",IF(F80="","",ROUND(D80*F80,2))) | K80: 25 | L80: 500 | N80: да | O80: Регулярная | P80: Ссылка | Q80: EC000275 | R80: 4670042791202 | S80: 14 | T80: 0.0190125 | U80: =S80/L80*D80 -> 0 | V80: =T80/L80*D80 -> 0
A81: 081-03-58 | B81: Шина N "ноль" на DIN-изол тип "Стойка" ШНИ-6х9-10-синяя HLT | C81: шт. | E81: 98.61 | F81: =E81-E81*$G$2% -> 98.61 | G81: =E81-(20*E81/100) -> 78.888 | H81: 375 | J81: =IF(D81="","",IF(F81="","",ROUND(D81*F81,2))) | K81: 25 | L81: 500 | N81: да | O81: Регулярная | P81: Ссылка | Q81: EC000275 | R81: 4670042791219 | S81: 17.5 | T81: 0.0190125 | U81: =S81/L81*D81 -> 0 | V81: =T81/L81*D81 -> 0
A82: 081-03-59 | B82: Шина N "ноль" на DIN-изол тип "Стойка" ШНИ-6х9-12-синяя HLT | C82: шт. | E82: 112.58 | F82: =E82-E82*$G$2% -> 112.58 | G82: =E82-(20*E82/100) -> 90.064 | H82: 125 | J82: =IF(D82="","",IF(F82="","",ROUND(D82*F82,2))) | K82: 25 | L82: 500 | N82: да | O82: Регулярная | P82: Ссылка | Q82: EC000275 | R82: 4670042791226 | S82: 19 | T82: 0.0277875 | U82: =S82/L82*D82 -> 0 | V82: =T82/L82*D82 -> 0
A83: 081-03-61 | B83: Шина N "ноль" на DIN-изол тип "Стойка" ШНИ-6х9-15-синяя HLT | C83: шт. | E83: 140.15 | F83: =E83-E83*$G$2% -> 140.15 | G83: =E83-(20*E83/100) -> 112.12 | H83: 375 | J83: =IF(D83="","",IF(F83="","",ROUND(D83*F83,2))) | K83: 25 | L83: 500 | N83: да | O83: Регулярная | P83: Ссылка | Q83: EC000275 | R83: 4670042791233 | S83: 11.5 | T83: 0.0190125 | U83: =S83/L83*D83 -> 0 | V83: =T83/L83*D83 -> 0
A84: 081-03-070 | B84: Шина N "ноль" на DIN-изол тип "Стойка" ШНИ-6х9-7-зеленая HLT | C84: шт. | E84: 81.05 | F84: =E84-E84*$G$2% -> 81.05 | G84: =E84-(20*E84/100) -> 64.84 | H84: 100 | I84: 19.11.2026 | J84: =IF(D84="","",IF(F84="","",ROUND(D84*F84,2))) | K84: 25 | L84: 500 | N84: да | O84: Регулярная | P84: Ссылка | Q84: EC000275 | R84: 4630076449975 | S84: 12 | T84: 0.0215475 | U84: =S84/L84*D84 -> 0 | V84: =T84/L84*D84 -> 0
A85: 081-03-071 | B85: Шина N "ноль" на DIN-изол тип "Стойка" ШНИ-6х9-8-зеленая HLT | C85: шт. | E85: 93.23 | F85: =E85-E85*$G$2% -> 93.23 | G85: =E85-(20*E85/100) -> 74.584 | H85: 625 | J85: =IF(D85="","",IF(F85="","",ROUND(D85*F85,2))) | K85: 25 | L85: 500 | N85: да | O85: Регулярная | P85: Ссылка | Q85: EC000275 | R85: 4630076449982 | S85: 13.5 | T85: 0.0215475 | U85: =S85/L85*D85 -> 0 | V85: =T85/L85*D85 -> 0
A86: 081-03-072 | B86: Шина N "ноль" на DIN-изол тип "Стойка" ШНИ-6х9-10-зеленая HLT | C86: шт. | E86: 98.61 | F86: =E86-E86*$G$2% -> 98.61 | G86: =E86-(20*E86/100) -> 78.888 | H86: 875 | J86: =IF(D86="","",IF(F86="","",ROUND(D86*F86,2))) | K86: 25 | L86: 500 | N86: да | O86: Регулярная | P86: Ссылка | Q86: EC000275 | R86: 4630076449999 | S86: 17.2 | T86: 0.0277875 | U86: =S86/L86*D86 -> 0 | V86: =T86/L86*D86 -> 0
A87: 081-03-073 | B87: Шина N "ноль" на DIN-изол тип "Стойка" ШНИ-6х9-12-зеленая HLT | C87: шт. | E87: 112.58 | F87: =E87-E87*$G$2% -> 112.58 | G87: =E87-(20*E87/100) -> 90.064 | H87: 820 | J87: =IF(D87="","",IF(F87="","",ROUND(D87*F87,2))) | K87: 25 | L87: 500 | N87: да | O87: Регулярная | P87: Ссылка | Q87: EC000275 | R87: 4620105820066 | S87: 19.5 | T87: 0.0277875 | U87: =S87/L87*D87 -> 0 | V87: =T87/L87*D87 -> 0
A88: 081-03-075 | B88: Шина N "ноль" на DIN-изол тип "Стойка" ШНИ-6х9-15-зеленая HLT | C88: шт. | E88: 140.15 | F88: =E88-E88*$G$2% -> 140.15 | G88: =E88-(20*E88/100) -> 112.12 | H88: 450 | J88: =IF(D88="","",IF(F88="","",ROUND(D88*F88,2))) | K88: 25 | L88: 500 | N88: да | O88: Регулярная | P88: Ссылка | Q88: EC000275 | R88: 4620105820073 | S88: 23 | T88: 0.0339 | U88: =S88/L88*D88 -> 0 | V88: =T88/L88*D88 -> 0
A89: Шина в комбинированном DIN-изоляторе типа "стойка" | J89: =IF(D89="","",IF(F89="","",ROUND(D89*F89,2)))
A90: 081-04-01 | B90: Шина N "ноль" в комб DIN-изол "Стойка" ШНИ-8х12-6-КС-синяя HLT | C90: шт. | E90: 162.2 | F90: =E90-E90*$G$2% -> 162.2 | G90: =E90-(20*E90/100) -> 129.76 | I90: 19.11.2026 | J90: =IF(D90="","",IF(F90="","",ROUND(D90*F90,2))) | K90: 10 | L90: 300 | N90: да | O90: Регулярная | P90: Ссылка | Q90: EC000275 | R90: 4670042791356 | S90: 20.7 | T90: 0.021384 | U90: =S90/L90*D90 -> 0 | V90: =T90/L90*D90 -> 0
A91: 081-04-02 | B91: Шина N "ноль" в комб DIN-изол "Стойка" ШНИ-8х12-8-КС-синяя HLT | C91: шт. | E91: 170.18 | F91: =E91-E91*$G$2% -> 170.18 | G91: =E91-(20*E91/100) -> 136.144 | J91: =IF(D91="","",IF(F91="","",ROUND(D91*F91,2))) | K91: 10 | L91: 250 | N91: да | O91: Регулярная | P91: Ссылка | Q91: EC000275 | R91: 4670042791363 | S91: 27 | T91: 0.024381 | U91: =S91/L91*D91 -> 0 | V91: =T91/L91*D91 -> 0
A92: 081-04-03 | B92: Шина N "ноль" в комб DIN-изол "Стойка" ШНИ-8х12-10-КС-синяя HLT | C92: шт. | E92: 220.03 | F92: =E92-E92*$G$2% -> 220.03 | G92: =E92-(20*E92/100) -> 176.024 | H92: 190 | J92: =IF(D92="","",IF(F92="","",ROUND(D92*F92,2))) | K92: 10 | L92: 200 | N92: да | O92: Регулярная | P92: Ссылка | Q92: EC000275 | R92: 4670042791370 | S92: 33.1 | T92: 0.02951475 | U92: =S92/L92*D92 -> 0 | V92: =T92/L92*D92 -> 0
A93: 081-04-04 | B93: Шина N "ноль" в комб DIN-изол "Стойка" ШНИ-8х12-12-КС-синяя HLT | C93: шт. | E93: 261.76 | F93: =E93-E93*$G$2% -> 261.76 | G93: =E93-(20*E93/100) -> 209.408 | H93: 260 | J93: =IF(D93="","",IF(F93="","",ROUND(D93*F93,2))) | K93: 10 | L93: 150 | N93: да | O93: Регулярная | P93: Ссылка | Q93: EC000275 | R93: 4670042791387 | S93: 31 | T93: 0.059598 | U93: =S93/L93*D93 -> 0 | V93: =T93/L93*D93 -> 0
A94: 081-04-05 | B94: Шина N "ноль" в комб DIN-изол "Стойка" ШНИ-8х12-14-КС-синяя HLT | C94: шт. | E94: 352.9 | F94: =E94-E94*$G$2% -> 352.9 | G94: =E94-(20*E94/100) -> 282.32 | H94: 100 | I94: 19.11.2026 | J94: =IF(D94="","",IF(F94="","",ROUND(D94*F94,2))) | K94: 10 | L94: 150 | N94: да | O94: Регулярная | P94: Ссылка | Q94: EC000275 | R94: 4670042791394 | S94: 26.4 | T94: 0.024381 | U94: =S94/L94*D94 -> 0 | V94: =T94/L94*D94 -> 0
A95: 081-04-06 | B95: Шина N "ноль" в комб DIN-изол "Стойка" ШНИ-8х12-16-КС-синяя HLT | C95: шт. | E95: 361.73 | F95: =E95-E95*$G$2% -> 361.73 | G95: =E95-(20*E95/100) -> 289.384 | H95: 110 | J95: =IF(D95="","",IF(F95="","",ROUND(D95*F95,2))) | K95: 10 | L95: 120 | N95: да | O95: Регулярная | P95: Ссылка | Q95: EC000275 | R95: 4670042794791 | S95: 18 | T95: 0.021 | U95: =S95/L95*D95 -> 0 | V95: =T95/L95*D95 -> 0
A96: Шина "N" нулевая в изоляторе ШНИ | J96: =IF(D96="","",IF(F96="","",ROUND(D96*F96,2)))
A97: 081-04-021 | B97: Шина "N" нулевая в изоляторе ШНИ-6х9-4-КС-синяя HLT | C97: шт. | E97: 68.52 | F97: =E97-E97*$G$2% -> 68.52 | G97: =E97-(20*E97/100) -> 54.816 | H97: 10 | J97: =IF(D97="","",IF(F97="","",ROUND(D97*F97,2))) | K97: 10 | L97: 500 | N97: да | O97: Регулярная | P97: Ссылка | Q97: EC000275 | R97: 4630076447254 | S97: 10 | T97: 0.01485 | U97: =S97/L97*D97 -> 0 | V97: =T97/L97*D97 -> 0
A98: 081-04-022 | B98: Шина "N" нулевая в изоляторе ШНИ-6х9-6-КС-синяя HLT | C98: шт. | E98: 95.71 | F98: =E98-E98*$G$2% -> 95.71 | G98: =E98-(20*E98/100) -> 76.568 | H98: 720 | J98: =IF(D98="","",IF(F98="","",ROUND(D98*F98,2))) | K98: 10 | L98: 500 | N98: да | O98: Регулярная | P98: Ссылка | Q98: EC000275 | R98: 4630076447261 | S98: 13.7 | T98: 0.01485 | U98: =S98/L98*D98 -> 0 | V98: =T98/L98*D98 -> 0
A99: 081-04-023 | B99: Шина "N" нулевая в изоляторе ШНИ-6х9-8-КС-синяя HLT | C99: шт. | E99: 123.72 | F99: =E99-E99*$G$2% -> 123.72 | G99: =E99-(20*E99/100) -> 98.976 | H99: 350 | J99: =IF(D99="","",IF(F99="","",ROUND(D99*F99,2))) | K99: 10 | L99: 500 | N99: да | O99: Регулярная | P99: Ссылка | Q99: EC000275 | R99: 4630076447278 | S99: 17.7 | T99: 0.01794 | U99: =S99/L99*D99 -> 0 | V99: =T99/L99*D99 -> 0
A100: 081-04-024 | B100: Шина "N" нулевая в изоляторе ШНИ-6х9-10-КС-синяя HLT | C100: шт. | E100: 140.05 | F100: =E100-E100*$G$2% -> 140.05 | G100: =E100-(20*E100/100) -> 112.04 | H100: 490 | J100: =IF(D100="","",IF(F100="","",ROUND(D100*F100,2))) | K100: 10 | L100: 500 | N100: да | O100: Регулярная | P100: Ссылка | Q100: EC000275 | R100: 4630076447285 | S100: 21.4 | T100: 0.021384 | U100: =S100/L100*D100 -> 0 | V100: =T100/L100*D100 -> 0
...

Sheet Акция
A1: Артикул | B1: Наименование | C1: Ед. | D1: Специальная цена (с НДС)
A3: Распределительные блок РБЛ "Лесенка"
A4: 081-07-008 | B4: Распределительный блок на DIN-рейку РБЛ "Лесенка"-125 1П 125А (1x35+1x16/6x16) HLT | C4: шт. | D4: 275.71
A5: Шины в корпусе (кросс-модули) "Лесенка"
A6: 081-06-011 | B6: Шины на DIN-рейку в корпусе (кросс-модуль) "Лесенка" 3L+PEN 4x15 HLT | C6: шт. | D6: 497.14
A7: Ответвительный сжим (орех)
A8: 081-13-28 | B8: Сжим ответвительный У-731М (4-10 : 1,5-10 мм2) IP20 HLT | C8: шт. | D8: 23.6745
A9: 081-13-30 | B9: Сжим ответвительный У-734М (16-35 : 16-25 мм2) IP20 HLT | C9: шт. | D9: 23.6745
A10: 081-13-31 | B10: Сжим ответвительный У-739М (4-10 : 1,5-2,5 мм2) IP20 HLT | C10: шт. | D10: 23.6745
A11: 081-13-33 | B11: Сжим ответвительный У-870М (95-150 : 16-50 мм2) IP20 HLT | C11: шт. | D11: 174.123
A12: 081-13-34 | B12: Сжим ответвительный У-871М (95-150 : 50-95 мм2) IP20 HLT | C12: шт. | D12: 174.123
A13: 081-13-35 | B13: Сжим ответвительный У-872М (95-150 : 95-120 мм2) IP20 HLT | C13: шт. | D13: 174.123
A14: Шинный терминал
A15: 084-11-10 | B15: Шинный терминал 1-4 мм2 для медной шины 5мм HLT | C15: шт. | D15: 20.682
A16: 084-11-11 | B16: Шинный терминал 16-50 мм2 для медной шины 5мм HLT | C16: шт. | D16: 58.563
A17: 084-11-13 | B17: Шинный терминал 35-70 мм2 для медной шины 5мм HLT | C17: шт. | D17: 76.986
A18: 084-11-14 | B18: Шинный терминал 70-185 мм2 для медной шины 5мм HLT | C18: шт. | D18: 95.553
A19: 084-11-15 | B19: Шинный терминал 1-4 мм2 для медной шины 10мм HLT | C19: шт. | D19: 21.708
A20: 084-11-17 | B20: Шинный терминал 2.5-16 мм2 для медной шины 10мм HLT | C20: шт. | D20: 26.793
A21: 084-11-16 | B21: Шинный терминал 16-50 мм2 для медной шины 10мм HLT | C21: шт. | D21: 62.28
A22: 084-11-18 | B22: Шинный терминал 35-70 мм2 для медной шины 10мм HLT | C22: шт. | D22: 80.136
A23: 084-11-19 | B23: Шинный терминал 70-185 мм2 для медной шины 10мм HLT | C23: шт. | D23: 100.215
A24: Клеммы вводные модульные
A25: 081-13-040 | B25: Клемма вводная для модульного оборудования КВМ 4-25мм2 (боковой ввод) HLT | C25: шт. | D25: 48.8925
A26: 081-13-041 | B26: Клемма вводная для модульного оборудования КВМ 4-25мм2 (прямой ввод) HLT | C26: шт. | D26: 52.065
A27: 081-13-042 | B27: Клемма вводная для модульного оборудования КВМ 4-25мм2 (прямой ввод удлиненная) HLT | C27: шт. | D27: 51.453
A28: Зажимы кабельные для С-профиля
A29: 084-27-001 | B29: Зажим кабельный для С-профиля диаметр кабеля 6-12мм HLT | C29: шт. | D29: 67.743
A30: 084-27-002 | B30: Зажим кабельный для С-профиля диаметр кабеля 12-18мм HLT | C30: шт. | D30: 81.9675
A31: 084-27-003 | B31: Зажим кабельный для С-профиля диаметр кабеля 18-22мм HLT | C31: шт. | D31: 85.3875
A32: 084-27-004 | B32: Зажим кабельный для С-профиля диаметр кабеля 22-30мм HLT | C32: шт. | D32: 96.777
A33: 084-27-005 | B33: Зажим кабельный для С-профиля диаметр кабеля 30-38мм HLT | C33: шт. | D33: 114.795
A34: 084-27-006 | B34: Зажим кабельный для С-профиля диаметр кабеля 38-42мм HLT | C34: шт. | D34: 144.027
A35: 084-27-007 | B35: Зажим кабельный для С-профиля диаметр кабеля 42-50мм HLT | C35: шт. | D35: 175.14
A36: 084-27-008 | B36: Зажим кабельный для С-профиля диаметр кабеля 50-64мм HLT | C36: шт. | D36: 234.927
A37: Сальники Серия MG LX-белый
A38: 083-01-054 | B38: Сальник MG LX 12 диаметр проводника 4-7мм IP68 -белый HLT | C38: шт. | D38: 12.625
A39: 083-01-055 | B39: Сальник MG LX 16 диаметр проводника 6-10мм IP68 -белый HLT | C39: шт. | D39: 15.99
A40: 083-01-056 | B40: Сальник MG LX 20 диаметр проводника 10-14мм IP68 -белый HLT | C40: шт. | D40: 24.305
A41: 083-01-057 | B41: Сальник MG LX 25 диаметр проводника 13-18мм IP68 -белый HLT | C41: шт. | D41: 29.67
A42: 083-01-058 | B42: Сальник MG LX 32 диаметр проводника 16-24мм IP68 -белый HLT | C42: шт. | D42: 49.36
A43: 083-01-059 | B43: Сальник MG LX 40 диаметр проводника 20-29мм IP68 -белый HLT | C43: шт. | D43: 70.535
A44: 083-01-060 | B44: Сальник MG LX 50 диаметр проводника 31-41мм IP68 -белый HLT | C44: шт. | D44: 110.595
A45: 083-01-061 | B45: Сальник MG LX 63 диаметр проводника 44-54мм IP68 -белый HLT | C45: шт. | D45: 151.465
A46: Сальники типа влагозащищенные PG -R белый
A47: 083-12-001 | B47: Сальники типа влагозащищенные PG-R 7 с гибким отводом d=3-6.5мм IP68 -белый HLT | C47: шт. | D47: 10.7
A48: 083-12-002 | B48: Сальники типа влагозащищенные PG-R 9 с гибким отводом d=4-8мм IP68 -белый HLT | C48: шт. | D48: 16.59
A49: 083-12-003 | B49: Сальники типа влагозащищенные PG-R 11 с гибким отводом d=5-10мм IP68 -белый HLT | C49: шт. | D49: 20.27
A50: 083-12-004 | B50: Сальники типа влагозащищенные PG-R 13.5 с гибким отводом d=6-12мм IP68 -белый HLT | C50: шт. | D50: 26.97
A51: 083-12-005 | B51: Сальники типа влагозащищенные PG-R 16 с гибким отводом d=10-14мм IP68 -белый HLT | C51: шт. | D51: 31.4
A52: 083-12-006 | B52: Сальники типа влагозащищенные PG-R 21 с гибким отводом d=13-18мм IP68 -белый HLT | C52: шт. | D52: 39.97
A53: Сальники типа влагозащищенные PG -R черный
A54: 083-12-010 | B54: Сальники типа влагозащищенные PG-R 7 с гибким отводом d=3-6.5мм IP54 -черный HLT | C54: шт. | D54: 10.7
A55: 083-12-011 | B55: Сальники типа влагозащищенные PG-R 9 с гибким отводом d=4-8мм IP54 -черный HLT | C55: шт. | D55: 16.59
A56: 083-12-012 | B56: Сальники типа влагозащищенные PG-R 11 с гибким отводом d=5-10мм IP54 -черный HLT | C56: шт. | D56: 20.27
A57: 083-12-013 | B57: Сальники типа влагозащищенные PG-R 13.5 с гибким отводом d=6-12мм IP54 -черный HLT | C57: шт. | D57: 26.97
A58: 083-12-014 | B58: Сальники типа влагозащищенные PG-R 16 с гибким отводом d=10-14мм IP54 -черный HLT | C58: шт. | D58: 31.4
A59: 083-12-015 | B59: Сальники типа влагозащищенные PG-R 21 с гибким отводом d=13-18мм IP54 -черный HLT | C59: шт. | D59: 39.97
A60: Заглушка для отверcтия ОКП-М
A61: 083-11-001 | B61: Заглушка для отверcтия ОКП-М12 с метрической резьбой "М" IP68 -белый HLT | C61: шт. | D61: 3.735
A62: 083-11-002 | B62: Заглушка для отверcтия ОКП-М16 с метрической резьбой "М" IP68 -белый HLT | C62: шт. | D62: 4.22
A63: 083-11-003 | B63: Заглушка для отверcтия ОКП-М20 с метрической резьбой "М" IP68 -белый HLT | C63: шт. | D63: 5.7
A64: 083-11-004 | B64: Заглушка для отверcтия ОКП-М25 с метрической резьбой "М" IP68 -белый HLT | C64: шт. | D64: 10.795
A65: 083-11-005 | B65: Заглушка для отверcтия ОКП-М32 с метрической резьбой "М" IP68 -белый HLT | C65: шт. | D65: 14.475
A66: Пластиковый профиль ПКК
A67: 086-07-11 | B67: Пластиковый профиль ПКК (ВxШ) 40мм*25мм*2М 6x8мм (уп/100м) HLT | C67: шт. | D67: 258.27
A68: 086-07-12 | B68: Пластиковый профиль ПКК (ВxШ) 30мм*30мм*2М 6x8мм (уп/100м) HLT | C68: шт. | D68: 166.55
A69: 086-07-05 | B69: Пластиковый профиль ПКК (ВxШ) 50мм*50мм*2М 6x8мм (уп/100м) HLT | C69: шт. | D69: 367.97
A70: 086-07-06 | B70: Пластиковый профиль ПКК (ВxШ) 60мм*25мм*2М 8x10мм (уп/100м) HLT | C70: шт. | D70: 358.705
A71: 086-07-07 | B71: Пластиковый профиль ПКК (ВxШ) 60мм*40мм*2М 8x10мм (уп/100м) HLT | C71: шт. | D71: 392.85
A72: 086-07-08 | B72: Пластиковый профиль ПКК (ВxШ) 60мм*60мм*2М 8x10мм (уп/80м) HLT | C72: шт. | D72: 452.73
A73: 086-07-09 | B73: Пластиковый профиль ПКК (ВxШ) 80мм*80мм*2М 10x10мм (уп/40м) HLT | C73: шт. | D73: 697.7
A74: 086-07-10 | B74: Пластиковый профиль ПКК (ВxШ) 100мм*100мм*2М 10x13мм (уп/36м) HLT | C74: шт. | D74: 796.605
A75: Изолента ПВХ-0.13х15 мм (10M)
A76: 084-16-050 | B76: Изолента ПВХ 0,13x15мм 10M (уп./10 шт) белая HLT | C76: шт. | D76: 16.495
A77: 084-16-051 | B77: Изолента ПВХ 0,13x15мм 10M (уп./10 шт) желтая HLT | C77: шт. | D77: 16.495
A78: 084-16-052 | B78: Изолента ПВХ 0,13x15мм 10M (уп./10 шт) Зеленая HLT | C78: шт. | D78: 16.495
A79: 084-16-053 | B79: Изолента ПВХ 0,13x15мм 10M (уп./10 шт) красная HLT | C79: шт. | D79: 16.495
A80: 084-16-054 | B80: Изолента ПВХ 0,13x15мм 10M (уп./10 шт) синяя HLT | C80: шт. | D80: 16.495
A81: 084-16-055 | B81: Изолента ПВХ 0,13x15мм 10M (уп./10 шт) черная HLT | C81: шт. | D81: 16.495
A82: 084-16-056 | B82: Изолента ПВХ 0,13x15мм 10M (уп./10 шт) желто-зеленая HLT | C82: шт. | D82: 17.58
A83: Изолента ПВХ-0.13х15 мм (20M)
A84: 084-16-001 | B84: Изолента ПВХ 0,13x15мм 20M (уп./10 шт) белая HLT | C84: шт. | D84: 29.385
A85: 084-16-002 | B85: Изолента ПВХ 0,13x15мм 20M (уп./10 шт) желтая HLT | C85: шт. | D85: 29.385
A86: 084-16-003 | B86: Изолента ПВХ 0,13x15мм 20M (уп./10 шт) Зеленая HLT | C86: шт. | D86: 29.385
A87: 084-16-004 | B87: Изолента ПВХ 0,13x15мм 20M (уп./10 шт) красная HLT | C87: шт. | D87: 29.385
A88: 084-16-005 | B88: Изолента ПВХ 0,13x15мм 20M (уп./10 шт) синяя HLT | C88: шт. | D88: 29.385
A89: 084-16-006 | B89: Изолента ПВХ 0,13x15мм 20M (уп./10 шт) черная HLT | C89: шт. | D89: 29.385
A90: 084-16-007 | B90: Изолента ПВХ 0,13x15мм 20M (уп./10 шт) желто-зеленая HLT | C90: шт. | D90: 31.51
A91: Изолента ПВХ-0.15х19 мм (10M)
A92: 084-16-070 | B92: Изолента ПВХ 0,15х19мм 10М (уп./10 шт) белая HLT | C92: шт. | D92: 20.47
A93: 084-16-071 | B93: Изолента ПВХ 0,15х19мм 10M (уп./10 шт) желтая HLT | C93: шт. | D93: 20.47
A94: 084-16-072 | B94: Изолента ПВХ 0,15х19мм 10M (уп./10 шт) зеленая HLT | C94: шт. | D94: 20.47
A95: 084-16-073 | B95: Изолента ПВХ 0,15х19мм 10M (уп./10 шт) красная HLT | C95: шт. | D95: 20.47
A96: 084-16-074 | B96: Изолента ПВХ 0,15х19мм 10M (уп./10 шт) синяя HLT | C96: шт. | D96: 20.47
A97: 084-16-075 | B97: Изолента ПВХ 0,15х19мм 10M (уп./10 шт) черная HLT | C97: шт. | D97: 20.47
A98: 084-16-076 | B98: Изолента ПВХ 0,15х19мм 10M (уп./10 шт) желто-зеленая HLT | C98: шт. | D98: 22.64
A99: Изолента ХБ
A100: 084-17-001 | B100: Изолента ХБ 19мм*7М двусторонняя (100 г) HLT | C100: шт. | D100: 41.56
A101: 084-17-002 | B101: Изолента ХБ 19мм*14М двусторонняя (200 г) HLT | C101: шт. | D101: 72.385
...
